BEGIN:VCALENDAR
VERSION:2.0
PRODID:-//spbstu.ru//ical//RU
NAME:Расписание группы 3834201/40002
X-WR-CALNAME:Расписание группы 3834201/40002
TIMEZONE-ID:Europe/Moscow
X-WR-TIMEZONE:Europe/Moscow
BEGIN:VEVENT
UID:naax@192.168.245.71:3006
SEQUENCE:0
DTSTAMP:20260421T121031Z
DTSTART:20260413T070000Z
DTEND:20260413T084000Z
SUMMARY:Иностранный язык. Профессионально-ориентированный курс
LOCATION:16 к. 203
END:VEVENT
BEGIN:VEVENT
UID:qc9f@192.168.245.71:3006
SEQUENCE:0
DTSTAMP:20260421T121031Z
DTSTART:20260413T090000Z
DTEND:20260413T104000Z
SUMMARY:Маркетинговые исследования и ситуационный анализ
LOCATION:16 к. 503
END:VEVENT
BEGIN:VEVENT
UID:29iy@192.168.245.71:3006
SEQUENCE:0
DTSTAMP:20260421T121031Z
DTSTART:20260413T110000Z
DTEND:20260413T124000Z
SUMMARY:Социология массовых коммуникаций
LOCATION:16 к. 200
END:VEVENT
BEGIN:VEVENT
UID:iknn@192.168.245.71:3006
SEQUENCE:0
DTSTAMP:20260421T121031Z
DTSTART:20260414T090000Z
DTEND:20260414T104000Z
SUMMARY:Элективная физическая культура и спорт
LOCATION:СК Секции
END:VEVENT
BEGIN:VEVENT
UID:ly3m@192.168.245.71:3006
SEQUENCE:0
DTSTAMP:20260421T121031Z
DTSTART:20260415T070000Z
DTEND:20260415T084000Z
SUMMARY:Русский язык как иностранный: Профессионально-ориентированный курс
LOCATION:16 к. 200
END:VEVENT
BEGIN:VEVENT
UID:zr7z@192.168.245.71:3006
SEQUENCE:0
DTSTAMP:20260421T121031Z
DTSTART:20260415T110000Z
DTEND:20260415T124000Z
SUMMARY:Искусство и массовая культура
LOCATION:16 к. 211
END:VEVENT
BEGIN:VEVENT
UID:decm@192.168.245.71:3006
SEQUENCE:0
DTSTAMP:20260421T121031Z
DTSTART:20260415T150000Z
DTEND:20260415T164000Z
SUMMARY:Теория и практика массовой информации
LOCATION:16 к. 213
END:VEVENT
BEGIN:VEVENT
UID:2i42@192.168.245.71:3006
SEQUENCE:0
DTSTAMP:20260421T121031Z
DTSTART:20260417T090000Z
DTEND:20260417T104000Z
SUMMARY:Элективная физическая культура и спорт
LOCATION:СК Секции
END:VEVENT
BEGIN:VEVENT
UID:fb4u@192.168.245.71:3006
SEQUENCE:0
DTSTAMP:20260421T121031Z
DTSTART:20260417T110000Z
DTEND:20260417T124000Z
SUMMARY:Социология массовых коммуникаций
LOCATION:16 к. 521
END:VEVENT
END:VCALENDAR