BEGIN:VCALENDAR
VERSION:2.0
PRODID:-//spbstu.ru//ical//RU
NAME:Расписание группы 3834201/40002
X-WR-CALNAME:Расписание группы 3834201/40002
TIMEZONE-ID:Europe/Moscow
X-WR-TIMEZONE:Europe/Moscow
BEGIN:VEVENT
UID:tdsx@192.168.245.71:3006
SEQUENCE:0
DTSTAMP:20260421T135045Z
DTSTART:20260427T070000Z
DTEND:20260427T084000Z
SUMMARY:Иностранный язык. Профессионально-ориентированный курс
LOCATION:16 к. 203
END:VEVENT
BEGIN:VEVENT
UID:csdq@192.168.245.71:3006
SEQUENCE:0
DTSTAMP:20260421T135045Z
DTSTART:20260427T090000Z
DTEND:20260427T104000Z
SUMMARY:Маркетинговые исследования и ситуационный анализ
LOCATION:16 к. 503
END:VEVENT
BEGIN:VEVENT
UID:8vxr@192.168.245.71:3006
SEQUENCE:0
DTSTAMP:20260421T135045Z
DTSTART:20260427T110000Z
DTEND:20260427T124000Z
SUMMARY:Социология массовых коммуникаций
LOCATION:16 к. 200
END:VEVENT
BEGIN:VEVENT
UID:wt34@192.168.245.71:3006
SEQUENCE:0
DTSTAMP:20260421T135045Z
DTSTART:20260428T090000Z
DTEND:20260428T104000Z
SUMMARY:Элективная физическая культура и спорт
LOCATION:СК Секции
END:VEVENT
BEGIN:VEVENT
UID:tn5n@192.168.245.71:3006
SEQUENCE:0
DTSTAMP:20260421T135045Z
DTSTART:20260428T130000Z
DTEND:20260428T144000Z
SUMMARY:Теория и практика массовой информации
LOCATION:16 к. 200
END:VEVENT
BEGIN:VEVENT
UID:fbnc@192.168.245.71:3006
SEQUENCE:0
DTSTAMP:20260421T135045Z
DTSTART:20260429T070000Z
DTEND:20260429T084000Z
SUMMARY:Русский язык как иностранный: Профессионально-ориентированный курс
LOCATION:16 к. 214
END:VEVENT
BEGIN:VEVENT
UID:0r5h@192.168.245.71:3006
SEQUENCE:0
DTSTAMP:20260421T135045Z
DTSTART:20260429T110000Z
DTEND:20260429T124000Z
SUMMARY:Искусство и массовая культура
LOCATION:16 к. 209
END:VEVENT
BEGIN:VEVENT
UID:xz7x@192.168.245.71:3006
SEQUENCE:0
DTSTAMP:20260421T135045Z
DTSTART:20260429T130000Z
DTEND:20260429T144000Z
SUMMARY:Коммуникационный менеджмент
LOCATION:16 к. 211
END:VEVENT
BEGIN:VEVENT
UID:nl6c@192.168.245.71:3006
SEQUENCE:0
DTSTAMP:20260421T135045Z
DTSTART:20260429T150000Z
DTEND:20260429T164000Z
SUMMARY:Теория и практика массовой информации
LOCATION:16 к. 213
END:VEVENT
END:VCALENDAR