BEGIN:VCALENDAR
VERSION:2.0
PRODID:-//spbstu.ru//ical//RU
NAME:Расписание группы 3834201/40003
X-WR-CALNAME:Расписание группы 3834201/40003
TIMEZONE-ID:Europe/Moscow
X-WR-TIMEZONE:Europe/Moscow
BEGIN:VEVENT
UID:9qpo@192.168.245.71:3006
SEQUENCE:0
DTSTAMP:20260425T135252Z
DTSTART:20251124T050000Z
DTEND:20251124T064000Z
SUMMARY:Письменная деловая коммуникация (на иностранном языке)
LOCATION:16 к. 509
END:VEVENT
BEGIN:VEVENT
UID:uix7@192.168.245.71:3006
SEQUENCE:0
DTSTAMP:20260425T135252Z
DTSTART:20251124T070000Z
DTEND:20251124T084000Z
SUMMARY:Письменная деловая коммуникация (на иностранном языке)
LOCATION:16 к. 509
END:VEVENT
BEGIN:VEVENT
UID:beqx@192.168.245.71:3006
SEQUENCE:0
DTSTAMP:20260425T135252Z
DTSTART:20251124T110000Z
DTEND:20251124T124000Z
SUMMARY:Безопасность жизнедеятельности
LOCATION:16 к. 210
END:VEVENT
BEGIN:VEVENT
UID:eok4@192.168.245.71:3006
SEQUENCE:0
DTSTAMP:20260425T135252Z
DTSTART:20251125T090000Z
DTEND:20251125T104000Z
SUMMARY:Элективная физическая культура и спорт
LOCATION:СК Секции
END:VEVENT
BEGIN:VEVENT
UID:hq16@192.168.245.71:3006
SEQUENCE:0
DTSTAMP:20260425T135252Z
DTSTART:20251126T070000Z
DTEND:20251126T084000Z
SUMMARY:Иностранный язык: Базовый курс
LOCATION:16 к. 513
END:VEVENT
BEGIN:VEVENT
UID:t2r0@192.168.245.71:3006
SEQUENCE:0
DTSTAMP:20260425T135252Z
DTSTART:20251126T090000Z
DTEND:20251126T104000Z
SUMMARY:Технологии рекламы и PR
LOCATION:16 к. 200
END:VEVENT
BEGIN:VEVENT
UID:k94t@192.168.245.71:3006
SEQUENCE:0
DTSTAMP:20260425T135252Z
DTSTART:20251127T070000Z
DTEND:20251127T084000Z
SUMMARY:Визуальные коммуникации
LOCATION:16 к. 210
END:VEVENT
BEGIN:VEVENT
UID:gkzy@192.168.245.71:3006
SEQUENCE:0
DTSTAMP:20260425T135252Z
DTSTART:20251127T090000Z
DTEND:20251127T104000Z
SUMMARY:Технологии рекламы и PR
LOCATION:16 к. 510
END:VEVENT
BEGIN:VEVENT
UID:ahjx@192.168.245.71:3006
SEQUENCE:0
DTSTAMP:20260425T135252Z
DTSTART:20251127T110000Z
DTEND:20251127T124000Z
SUMMARY:Маркетинг территорий
LOCATION:16 к. 215
END:VEVENT
BEGIN:VEVENT
UID:flpz@192.168.245.71:3006
SEQUENCE:0
DTSTAMP:20260425T135252Z
DTSTART:20251127T130000Z
DTEND:20251127T144000Z
SUMMARY:Медиапроизводство
LOCATION:16 к. 203
END:VEVENT
BEGIN:VEVENT
UID:2mag@192.168.245.71:3006
SEQUENCE:0
DTSTAMP:20260425T135252Z
DTSTART:20251128T050000Z
DTEND:20251128T064000Z
SUMMARY:Иностранный язык: Русский язык как иностранный
LOCATION:16 к. 214
END:VEVENT
BEGIN:VEVENT
UID:jwo4@192.168.245.71:3006
SEQUENCE:0
DTSTAMP:20260425T135252Z
DTSTART:20251128T090000Z
DTEND:20251128T104000Z
SUMMARY:Элективная физическая культура и спорт
LOCATION:СК Секции
END:VEVENT
END:VCALENDAR