BEGIN:VCALENDAR
VERSION:2.0
PRODID:-//spbstu.ru//ical//RU
NAME:Расписание группы 3834203/40001
X-WR-CALNAME:Расписание группы 3834203/40001
TIMEZONE-ID:Europe/Moscow
X-WR-TIMEZONE:Europe/Moscow
BEGIN:VEVENT
UID:4eyf@192.168.245.71:3006
SEQUENCE:0
DTSTAMP:20260424T021624Z
DTSTART:20251223T090000Z
DTEND:20251223T102000Z
SUMMARY:Элективная физическая культура и спорт
LOCATION:СК Секции
END:VEVENT
BEGIN:VEVENT
UID:ad98@192.168.245.71:3006
SEQUENCE:0
DTSTAMP:20260424T021624Z
DTSTART:20251223T130000Z
DTEND:20251223T150000Z
SUMMARY:Безопасность жизнедеятельности
LOCATION:ГК 119
END:VEVENT
BEGIN:VEVENT
UID:k020@192.168.245.71:3006
SEQUENCE:0
DTSTAMP:20260424T021624Z
DTSTART:20251225T070000Z
DTEND:20251225T090000Z
SUMMARY:Оcновы корректуры и редактирования
LOCATION:16 к. 209
END:VEVENT
BEGIN:VEVENT
UID:c2xi@192.168.245.71:3006
SEQUENCE:0
DTSTAMP:20260424T021624Z
DTSTART:20251225T100000Z
DTEND:20251225T114000Z
SUMMARY:Практическое редактирование
LOCATION:16 к. 503
END:VEVENT
BEGIN:VEVENT
UID:bsyv@192.168.245.71:3006
SEQUENCE:0
DTSTAMP:20260424T021624Z
DTSTART:20251227T090000Z
DTEND:20251227T110000Z
SUMMARY:Зарубежная литература
LOCATION:16 к. 211
END:VEVENT
END:VCALENDAR