BEGIN:VCALENDAR
VERSION:2.0
PRODID:-//spbstu.ru//ical//RU
NAME:Расписание группы 3834203/40001
X-WR-CALNAME:Расписание группы 3834203/40001
TIMEZONE-ID:Europe/Moscow
X-WR-TIMEZONE:Europe/Moscow
BEGIN:VEVENT
UID:lv2n@192.168.245.71:3006
SEQUENCE:0
DTSTAMP:20260423T043420Z
DTSTART:20260210T070000Z
DTEND:20260210T084000Z
SUMMARY:Стилистика
LOCATION:16 к. 515
END:VEVENT
BEGIN:VEVENT
UID:antx@192.168.245.71:3006
SEQUENCE:0
DTSTAMP:20260423T043420Z
DTSTART:20260210T090000Z
DTEND:20260210T104000Z
SUMMARY:Элективная физическая культура и спорт
LOCATION:СК Секции
END:VEVENT
BEGIN:VEVENT
UID:v0hq@192.168.245.71:3006
SEQUENCE:0
DTSTAMP:20260423T043420Z
DTSTART:20260210T110000Z
DTEND:20260210T124000Z
SUMMARY:Стилистика
LOCATION:16 к. 515
END:VEVENT
BEGIN:VEVENT
UID:x3v1@192.168.245.71:3006
SEQUENCE:0
DTSTAMP:20260423T043420Z
DTSTART:20260210T130000Z
DTEND:20260210T144000Z
SUMMARY:Стилистика
LOCATION:16 к. 515
END:VEVENT
BEGIN:VEVENT
UID:oaqu@192.168.245.71:3006
SEQUENCE:0
DTSTAMP:20260423T043420Z
DTSTART:20260211T070000Z
DTEND:20260211T084000Z
SUMMARY:Редакторская подготовка изданий
LOCATION:16 к. 200
END:VEVENT
BEGIN:VEVENT
UID:r0x3@192.168.245.71:3006
SEQUENCE:0
DTSTAMP:20260423T043420Z
DTSTART:20260211T090000Z
DTEND:20260211T104000Z
SUMMARY:Редакторская подготовка изданий
LOCATION:16 к. 510
END:VEVENT
BEGIN:VEVENT
UID:ri95@192.168.245.71:3006
SEQUENCE:0
DTSTAMP:20260423T043420Z
DTSTART:20260211T110000Z
DTEND:20260211T124000Z
SUMMARY:Визуальные коммуникации
LOCATION:16 к. 215
END:VEVENT
BEGIN:VEVENT
UID:balk@192.168.245.71:3006
SEQUENCE:0
DTSTAMP:20260423T043420Z
DTSTART:20260212T070000Z
DTEND:20260212T084000Z
SUMMARY:Отечественная литература
LOCATION:16 к. 119
END:VEVENT
BEGIN:VEVENT
UID:txke@192.168.245.71:3006
SEQUENCE:0
DTSTAMP:20260423T043420Z
DTSTART:20260212T090000Z
DTEND:20260212T104000Z
SUMMARY:Отечественная литература
LOCATION:16 к. 119
END:VEVENT
BEGIN:VEVENT
UID:765z@192.168.245.71:3006
SEQUENCE:0
DTSTAMP:20260423T043420Z
DTSTART:20260212T110000Z
DTEND:20260212T124000Z
SUMMARY:Управление и менеджмент в книжном деле
LOCATION:16 к. 211
END:VEVENT
BEGIN:VEVENT
UID:zxxb@192.168.245.71:3006
SEQUENCE:0
DTSTAMP:20260423T043420Z
DTSTART:20260212T130000Z
DTEND:20260212T144000Z
SUMMARY:Основы проектной деятельности
LOCATION:16 к. 214
END:VEVENT
BEGIN:VEVENT
UID:s1mp@192.168.245.71:3006
SEQUENCE:0
DTSTAMP:20260423T043420Z
DTSTART:20260213T090000Z
DTEND:20260213T104000Z
SUMMARY:Элективная физическая культура и спорт
LOCATION:СК Секции
END:VEVENT
BEGIN:VEVENT
UID:cnc9@192.168.245.71:3006
SEQUENCE:0
DTSTAMP:20260423T043420Z
DTSTART:20260213T110000Z
DTEND:20260213T124000Z
SUMMARY:Оcновы корректуры и редактирования
LOCATION:16 к. 215
END:VEVENT
BEGIN:VEVENT
UID:4wsy@192.168.245.71:3006
SEQUENCE:0
DTSTAMP:20260423T043420Z
DTSTART:20260214T070000Z
DTEND:20260214T084000Z
SUMMARY:Зарубежная литература
LOCATION:16 к. 515
END:VEVENT
BEGIN:VEVENT
UID:s715@192.168.245.71:3006
SEQUENCE:0
DTSTAMP:20260423T043420Z
DTSTART:20260214T090000Z
DTEND:20260214T104000Z
SUMMARY:Зарубежная литература
LOCATION:16 к. 515
END:VEVENT
BEGIN:VEVENT
UID:ibbq@192.168.245.71:3006
SEQUENCE:0
DTSTAMP:20260423T043420Z
DTSTART:20260214T110000Z
DTEND:20260214T124000Z
SUMMARY:Редакторская подготовка изданий
LOCATION:16 к. 515
END:VEVENT
END:VCALENDAR