BEGIN:VCALENDAR
VERSION:2.0
PRODID:-//spbstu.ru//ical//RU
NAME:Расписание группы 3834203/40001
X-WR-CALNAME:Расписание группы 3834203/40001
TIMEZONE-ID:Europe/Moscow
X-WR-TIMEZONE:Europe/Moscow
BEGIN:VEVENT
UID:6d8s@192.168.245.71:3006
SEQUENCE:0
DTSTAMP:20260422T190508Z
DTSTART:20260303T070000Z
DTEND:20260303T084000Z
SUMMARY:Стилистика
LOCATION:16 к. 515
END:VEVENT
BEGIN:VEVENT
UID:a05k@192.168.245.71:3006
SEQUENCE:0
DTSTAMP:20260422T190508Z
DTSTART:20260303T090000Z
DTEND:20260303T104000Z
SUMMARY:Элективная физическая культура и спорт
LOCATION:СК Секции
END:VEVENT
BEGIN:VEVENT
UID:zm64@192.168.245.71:3006
SEQUENCE:0
DTSTAMP:20260422T190508Z
DTSTART:20260303T110000Z
DTEND:20260303T124000Z
SUMMARY:Стилистика
LOCATION:16 к. 515
END:VEVENT
BEGIN:VEVENT
UID:wfes@192.168.245.71:3006
SEQUENCE:0
DTSTAMP:20260422T190508Z
DTSTART:20260303T130000Z
DTEND:20260303T144000Z
SUMMARY:Стилистика
LOCATION:16 к. 515
END:VEVENT
BEGIN:VEVENT
UID:31ae@192.168.245.71:3006
SEQUENCE:0
DTSTAMP:20260422T190508Z
DTSTART:20260304T070000Z
DTEND:20260304T084000Z
SUMMARY:Редакторская подготовка изданий
LOCATION:16 к. 510
END:VEVENT
BEGIN:VEVENT
UID:156v@192.168.245.71:3006
SEQUENCE:0
DTSTAMP:20260422T190508Z
DTSTART:20260304T090000Z
DTEND:20260304T104000Z
SUMMARY:Редакторская подготовка изданий
LOCATION:16 к. 510
END:VEVENT
BEGIN:VEVENT
UID:j92x@192.168.245.71:3006
SEQUENCE:0
DTSTAMP:20260422T190508Z
DTSTART:20260304T110000Z
DTEND:20260304T124000Z
SUMMARY:Визуальные коммуникации
LOCATION:16 к. 215
END:VEVENT
BEGIN:VEVENT
UID:y55e@192.168.245.71:3006
SEQUENCE:0
DTSTAMP:20260422T190508Z
DTSTART:20260305T070000Z
DTEND:20260305T084000Z
SUMMARY:Отечественная литература
LOCATION:16 к. 119
END:VEVENT
BEGIN:VEVENT
UID:g1ku@192.168.245.71:3006
SEQUENCE:0
DTSTAMP:20260422T190508Z
DTSTART:20260305T090000Z
DTEND:20260305T104000Z
SUMMARY:Отечественная литература
LOCATION:16 к. 119
END:VEVENT
BEGIN:VEVENT
UID:ldnx@192.168.245.71:3006
SEQUENCE:0
DTSTAMP:20260422T190508Z
DTSTART:20260305T110000Z
DTEND:20260305T124000Z
SUMMARY:Управление и менеджмент в книжном деле
LOCATION:16 к. 211
END:VEVENT
BEGIN:VEVENT
UID:y5du@192.168.245.71:3006
SEQUENCE:0
DTSTAMP:20260422T190508Z
DTSTART:20260305T130000Z
DTEND:20260305T144000Z
SUMMARY:Основы проектной деятельности
LOCATION:16 к. 214
END:VEVENT
BEGIN:VEVENT
UID:t37d@192.168.245.71:3006
SEQUENCE:0
DTSTAMP:20260422T190508Z
DTSTART:20260306T090000Z
DTEND:20260306T104000Z
SUMMARY:Элективная физическая культура и спорт
LOCATION:СК Секции
END:VEVENT
BEGIN:VEVENT
UID:3p7g@192.168.245.71:3006
SEQUENCE:0
DTSTAMP:20260422T190508Z
DTSTART:20260306T110000Z
DTEND:20260306T124000Z
SUMMARY:Оcновы корректуры и редактирования
LOCATION:16 к. 215
END:VEVENT
BEGIN:VEVENT
UID:3qpo@192.168.245.71:3006
SEQUENCE:0
DTSTAMP:20260422T190508Z
DTSTART:20260306T130000Z
DTEND:20260306T144000Z
SUMMARY:Управление и менеджмент в книжном деле
LOCATION:16 к. 214
END:VEVENT
BEGIN:VEVENT
UID:dk9k@192.168.245.71:3006
SEQUENCE:0
DTSTAMP:20260422T190508Z
DTSTART:20260307T070000Z
DTEND:20260307T084000Z
SUMMARY:Зарубежная литература
LOCATION:16 к. 515
END:VEVENT
BEGIN:VEVENT
UID:6u4f@192.168.245.71:3006
SEQUENCE:0
DTSTAMP:20260422T190508Z
DTSTART:20260307T090000Z
DTEND:20260307T104000Z
SUMMARY:Редакторская подготовка изданий
LOCATION:16 к. 515
END:VEVENT
BEGIN:VEVENT
UID:2fzm@192.168.245.71:3006
SEQUENCE:0
DTSTAMP:20260422T190508Z
DTSTART:20260307T110000Z
DTEND:20260307T124000Z
SUMMARY:Редакторская подготовка изданий
LOCATION:16 к. 515
END:VEVENT
END:VCALENDAR