BEGIN:VCALENDAR
VERSION:2.0
PRODID:-//spbstu.ru//ical//RU
NAME:Расписание группы 3834203/40001
X-WR-CALNAME:Расписание группы 3834203/40001
TIMEZONE-ID:Europe/Moscow
X-WR-TIMEZONE:Europe/Moscow
BEGIN:VEVENT
UID:1gsd@192.168.245.71:3006
SEQUENCE:0
DTSTAMP:20260421T132835Z
DTSTART:20260421T070000Z
DTEND:20260421T084000Z
SUMMARY:Стилистика
LOCATION:16 к. 515
END:VEVENT
BEGIN:VEVENT
UID:b1e3@192.168.245.71:3006
SEQUENCE:0
DTSTAMP:20260421T132835Z
DTSTART:20260421T090000Z
DTEND:20260421T104000Z
SUMMARY:Элективная физическая культура и спорт
LOCATION:СК Секции
END:VEVENT
BEGIN:VEVENT
UID:z5s6@192.168.245.71:3006
SEQUENCE:0
DTSTAMP:20260421T132835Z
DTSTART:20260421T110000Z
DTEND:20260421T124000Z
SUMMARY:Стилистика
LOCATION:16 к. 515
END:VEVENT
BEGIN:VEVENT
UID:rhwk@192.168.245.71:3006
SEQUENCE:0
DTSTAMP:20260421T132835Z
DTSTART:20260421T130000Z
DTEND:20260421T144000Z
SUMMARY:Стилистика
LOCATION:16 к. 515
END:VEVENT
BEGIN:VEVENT
UID:cvu1@192.168.245.71:3006
SEQUENCE:0
DTSTAMP:20260421T132835Z
DTSTART:20260422T110000Z
DTEND:20260422T124000Z
SUMMARY:Визуальные коммуникации
LOCATION:16 к. 215
END:VEVENT
BEGIN:VEVENT
UID:0y9f@192.168.245.71:3006
SEQUENCE:0
DTSTAMP:20260421T132835Z
DTSTART:20260423T070000Z
DTEND:20260423T084000Z
SUMMARY:Отечественная литература
LOCATION:16 к. 119
END:VEVENT
BEGIN:VEVENT
UID:0tg0@192.168.245.71:3006
SEQUENCE:0
DTSTAMP:20260421T132835Z
DTSTART:20260423T090000Z
DTEND:20260423T104000Z
SUMMARY:Отечественная литература
LOCATION:16 к. 119
END:VEVENT
BEGIN:VEVENT
UID:wauv@192.168.245.71:3006
SEQUENCE:0
DTSTAMP:20260421T132835Z
DTSTART:20260423T110000Z
DTEND:20260423T124000Z
SUMMARY:Управление и менеджмент в книжном деле
LOCATION:16 к. 211
END:VEVENT
BEGIN:VEVENT
UID:oo6n@192.168.245.71:3006
SEQUENCE:0
DTSTAMP:20260421T132835Z
DTSTART:20260424T090000Z
DTEND:20260424T104000Z
SUMMARY:Элективная физическая культура и спорт
LOCATION:СК Секции
END:VEVENT
BEGIN:VEVENT
UID:2dcq@192.168.245.71:3006
SEQUENCE:0
DTSTAMP:20260421T132835Z
DTSTART:20260424T110000Z
DTEND:20260424T124000Z
SUMMARY:Оcновы корректуры и редактирования
LOCATION:16 к. 215
END:VEVENT
END:VCALENDAR