BEGIN:VCALENDAR
VERSION:2.0
PRODID:-//spbstu.ru//ical//RU
NAME:Расписание группы 3834402/40002
X-WR-CALNAME:Расписание группы 3834402/40002
TIMEZONE-ID:Europe/Moscow
X-WR-TIMEZONE:Europe/Moscow
BEGIN:VEVENT
UID:fnp0@192.168.245.71:3006
SEQUENCE:0
DTSTAMP:20260424T025545Z
DTSTART:20251201T090000Z
DTEND:20251201T104000Z
SUMMARY:Письменная деловая коммуникация (на иностранном языке)
LOCATION:6 к. конф. зал
END:VEVENT
BEGIN:VEVENT
UID:nl2p@192.168.245.71:3006
SEQUENCE:0
DTSTAMP:20260424T025545Z
DTSTART:20251202T070000Z
DTEND:20251202T084000Z
SUMMARY:Общая и профессиональная педагогика
LOCATION:9 к. 219
END:VEVENT
BEGIN:VEVENT
UID:f8p7@192.168.245.71:3006
SEQUENCE:0
DTSTAMP:20260424T025545Z
DTSTART:20251202T090000Z
DTEND:20251202T104000Z
SUMMARY:Элективная физическая культура и спорт
LOCATION:СК Спортивный зал
END:VEVENT
BEGIN:VEVENT
UID:fgcx@192.168.245.71:3006
SEQUENCE:0
DTSTAMP:20260424T025545Z
DTSTART:20251202T110000Z
DTEND:20251202T124000Z
SUMMARY:Общая и профессиональная педагогика
LOCATION:9 к. 323
END:VEVENT
BEGIN:VEVENT
UID:9p9h@192.168.245.71:3006
SEQUENCE:0
DTSTAMP:20260424T025545Z
DTSTART:20251202T130000Z
DTEND:20251202T144000Z
SUMMARY:Биологические основы психической деятельности
LOCATION:9 к. 323
END:VEVENT
BEGIN:VEVENT
UID:fedj@192.168.245.71:3006
SEQUENCE:0
DTSTAMP:20260424T025545Z
DTSTART:20251203T070000Z
DTEND:20251203T084000Z
SUMMARY:Иностранный язык: Русский язык как иностранный
LOCATION:9 к. 212
END:VEVENT
BEGIN:VEVENT
UID:ce38@192.168.245.71:3006
SEQUENCE:0
DTSTAMP:20260424T025545Z
DTSTART:20251204T070000Z
DTEND:20251204T084000Z
SUMMARY:Письменная деловая коммуникация (на иностранном языке)
LOCATION:9 к. 212
END:VEVENT
BEGIN:VEVENT
UID:jre3@192.168.245.71:3006
SEQUENCE:0
DTSTAMP:20260424T025545Z
DTSTART:20251204T090000Z
DTEND:20251204T104000Z
SUMMARY:Психолого-педагогическая диагностика с практикумом
LOCATION:9 к. 216
END:VEVENT
BEGIN:VEVENT
UID:85g2@192.168.245.71:3006
SEQUENCE:0
DTSTAMP:20260424T025545Z
DTSTART:20251205T070000Z
DTEND:20251205T084000Z
SUMMARY:Иностранный язык: Русский язык как иностранный
LOCATION:9 к. 208
END:VEVENT
BEGIN:VEVENT
UID:caf8@192.168.245.71:3006
SEQUENCE:0
DTSTAMP:20260424T025545Z
DTSTART:20251205T090000Z
DTEND:20251205T104000Z
SUMMARY:Элективная физическая культура и спорт
LOCATION:СК Спортивный зал
END:VEVENT
BEGIN:VEVENT
UID:wrtl@192.168.245.71:3006
SEQUENCE:0
DTSTAMP:20260424T025545Z
DTSTART:20251205T110000Z
DTEND:20251205T124000Z
SUMMARY:Письменная деловая коммуникация (на иностранном языке)
LOCATION:9 к. 535
END:VEVENT
END:VCALENDAR