BEGIN:VCALENDAR
VERSION:2.0
PRODID:-//spbstu.ru//ical//RU
NAME:Расписание группы 3834402/40002
X-WR-CALNAME:Расписание группы 3834402/40002
TIMEZONE-ID:Europe/Moscow
X-WR-TIMEZONE:Europe/Moscow
BEGIN:VEVENT
UID:2868@192.168.245.71:3006
SEQUENCE:0
DTSTAMP:20260423T000147Z
DTSTART:20260119T090000Z
DTEND:20260119T104000Z
SUMMARY:Общая и профессиональная педагогика
LOCATION:9 к. 216
END:VEVENT
END:VCALENDAR