BEGIN:VCALENDAR
VERSION:2.0
PRODID:-//spbstu.ru//ical//RU
NAME:Расписание группы 3834502/40004
X-WR-CALNAME:Расписание группы 3834502/40004
TIMEZONE-ID:Europe/Moscow
X-WR-TIMEZONE:Europe/Moscow
BEGIN:VEVENT
UID:oze1@192.168.245.71:3006
SEQUENCE:0
DTSTAMP:20260421T032449Z
DTSTART:20260413T070000Z
DTEND:20260413T084000Z
SUMMARY:Практический курс второго иностранного языка (английский язык для 
 иностранных студентов)
LOCATION:9 к. 217
END:VEVENT
BEGIN:VEVENT
UID:3y6f@192.168.245.71:3006
SEQUENCE:0
DTSTAMP:20260421T032449Z
DTSTART:20260413T070000Z
DTEND:20260413T084000Z
SUMMARY:Практический курс второго иностранного языка (французский язык)
LOCATION:9 к. 127
END:VEVENT
BEGIN:VEVENT
UID:nozr@192.168.245.71:3006
SEQUENCE:0
DTSTAMP:20260421T032449Z
DTSTART:20260413T090000Z
DTEND:20260413T104000Z
SUMMARY:Практический курс второго иностранного языка (английский язык для 
 иностранных студентов)
LOCATION:9 к. 217
END:VEVENT
BEGIN:VEVENT
UID:tgyl@192.168.245.71:3006
SEQUENCE:0
DTSTAMP:20260421T032449Z
DTSTART:20260413T090000Z
DTEND:20260413T104000Z
SUMMARY:Практический курс первого иностранного языка
LOCATION:6 к. 18
END:VEVENT
BEGIN:VEVENT
UID:2ztg@192.168.245.71:3006
SEQUENCE:0
DTSTAMP:20260421T032449Z
DTSTART:20260413T110000Z
DTEND:20260413T124000Z
SUMMARY:Практический курс первого иностранного языка
LOCATION:9 к. 133
END:VEVENT
BEGIN:VEVENT
UID:dj64@192.168.245.71:3006
SEQUENCE:0
DTSTAMP:20260421T032449Z
DTSTART:20260413T150000Z
DTEND:20260413T160000Z
SUMMARY:Безопасность жизнедеятельности
LOCATION:ГЗ 123
END:VEVENT
BEGIN:VEVENT
UID:uk28@192.168.245.71:3006
SEQUENCE:0
DTSTAMP:20260421T032449Z
DTSTART:20260414T070000Z
DTEND:20260414T084000Z
SUMMARY:Практический курс первого иностранного языка
LOCATION:9 к. 221
END:VEVENT
BEGIN:VEVENT
UID:8m2k@192.168.245.71:3006
SEQUENCE:0
DTSTAMP:20260421T032449Z
DTSTART:20260414T090000Z
DTEND:20260414T104000Z
SUMMARY:Элективная физическая культура и спорт
LOCATION:СК Спортивный зал
END:VEVENT
BEGIN:VEVENT
UID:wyyf@192.168.245.71:3006
SEQUENCE:0
DTSTAMP:20260421T032449Z
DTSTART:20260414T110000Z
DTEND:20260414T124000Z
SUMMARY:Практический курс первого иностранного языка
LOCATION:9 к. 208
END:VEVENT
BEGIN:VEVENT
UID:cpp2@192.168.245.71:3006
SEQUENCE:0
DTSTAMP:20260421T032449Z
DTSTART:20260414T110000Z
DTEND:20260414T124000Z
SUMMARY:Практический курс первого иностранного языка
LOCATION:6 к. 11
END:VEVENT
BEGIN:VEVENT
UID:crkl@192.168.245.71:3006
SEQUENCE:0
DTSTAMP:20260421T032449Z
DTSTART:20260415T070000Z
DTEND:20260415T084000Z
SUMMARY:Практический курс второго иностранного языка (английский язык для 
 иностранных студентов)
LOCATION:9 к. 514
END:VEVENT
BEGIN:VEVENT
UID:op0x@192.168.245.71:3006
SEQUENCE:0
DTSTAMP:20260421T032449Z
DTSTART:20260415T070000Z
DTEND:20260415T084000Z
SUMMARY:Практический курс второго иностранного языка (французский язык)
LOCATION:9 к. 127
END:VEVENT
BEGIN:VEVENT
UID:wjk4@192.168.245.71:3006
SEQUENCE:0
DTSTAMP:20260421T032449Z
DTSTART:20260415T090000Z
DTEND:20260415T104000Z
SUMMARY:Практический курс первого иностранного языка
LOCATION:9 к. 535
END:VEVENT
BEGIN:VEVENT
UID:jwdd@192.168.245.71:3006
SEQUENCE:0
DTSTAMP:20260421T032449Z
DTSTART:20260415T110000Z
DTEND:20260415T124000Z
SUMMARY:Практический курс первого иностранного языка
LOCATION:9 к. 518
END:VEVENT
BEGIN:VEVENT
UID:n9d4@192.168.245.71:3006
SEQUENCE:0
DTSTAMP:20260421T032449Z
DTSTART:20260415T130000Z
DTEND:20260415T144000Z
SUMMARY:Практический курс второго иностранного языка (английский язык для 
 иностранных студентов)
LOCATION:9 к. 514
END:VEVENT
BEGIN:VEVENT
UID:e4os@192.168.245.71:3006
SEQUENCE:0
DTSTAMP:20260421T032449Z
DTSTART:20260416T110000Z
DTEND:20260416T124000Z
SUMMARY:Практический курс первого иностранного языка
LOCATION:9 к. 217
END:VEVENT
BEGIN:VEVENT
UID:d6hh@192.168.245.71:3006
SEQUENCE:0
DTSTAMP:20260421T032449Z
DTSTART:20260416T130000Z
DTEND:20260416T144000Z
SUMMARY:Основы проектной деятельности
LOCATION:6 к. 10
END:VEVENT
BEGIN:VEVENT
UID:xhg6@192.168.245.71:3006
SEQUENCE:0
DTSTAMP:20260421T032449Z
DTSTART:20260417T090000Z
DTEND:20260417T104000Z
SUMMARY:Элективная физическая культура и спорт
LOCATION:СК Спортивный зал
END:VEVENT
BEGIN:VEVENT
UID:d8h4@192.168.245.71:3006
SEQUENCE:0
DTSTAMP:20260421T032449Z
DTSTART:20260417T110000Z
DTEND:20260417T124000Z
SUMMARY:Практический курс первого иностранного языка
LOCATION:9 к. 219
END:VEVENT
BEGIN:VEVENT
UID:8ont@192.168.245.71:3006
SEQUENCE:0
DTSTAMP:20260421T032449Z
DTSTART:20260417T110000Z
DTEND:20260417T124000Z
SUMMARY:Практический курс второго иностранного языка (английский язык для 
 иностранных студентов)
LOCATION:9 к. 313
END:VEVENT
BEGIN:VEVENT
UID:b2ob@192.168.245.71:3006
SEQUENCE:0
DTSTAMP:20260421T032449Z
DTSTART:20260417T130000Z
DTEND:20260417T144000Z
SUMMARY:Практический курс второго иностранного языка (английский язык для 
 иностранных студентов)
LOCATION:9 к. 313
END:VEVENT
END:VCALENDAR