BEGIN:VCALENDAR
VERSION:2.0
PRODID:-//spbstu.ru//ical//RU
NAME:Расписание группы 3834502/40004
X-WR-CALNAME:Расписание группы 3834502/40004
TIMEZONE-ID:Europe/Moscow
X-WR-TIMEZONE:Europe/Moscow
BEGIN:VEVENT
UID:jwa0@192.168.245.71:3006
SEQUENCE:0
DTSTAMP:20260421T032337Z
DTSTART:20260427T070000Z
DTEND:20260427T084000Z
SUMMARY:Практический курс второго иностранного языка (английский язык для 
 иностранных студентов)
LOCATION:9 к. 217
END:VEVENT
BEGIN:VEVENT
UID:5jpq@192.168.245.71:3006
SEQUENCE:0
DTSTAMP:20260421T032337Z
DTSTART:20260427T070000Z
DTEND:20260427T084000Z
SUMMARY:Практический курс второго иностранного языка (французский язык)
LOCATION:9 к. 127
END:VEVENT
BEGIN:VEVENT
UID:zv29@192.168.245.71:3006
SEQUENCE:0
DTSTAMP:20260421T032337Z
DTSTART:20260427T090000Z
DTEND:20260427T104000Z
SUMMARY:Практический курс второго иностранного языка (английский язык для 
 иностранных студентов)
LOCATION:9 к. 217
END:VEVENT
BEGIN:VEVENT
UID:c4r3@192.168.245.71:3006
SEQUENCE:0
DTSTAMP:20260421T032337Z
DTSTART:20260427T090000Z
DTEND:20260427T104000Z
SUMMARY:Практический курс первого иностранного языка
LOCATION:6 к. 18
END:VEVENT
BEGIN:VEVENT
UID:3owl@192.168.245.71:3006
SEQUENCE:0
DTSTAMP:20260421T032337Z
DTSTART:20260427T110000Z
DTEND:20260427T124000Z
SUMMARY:Практический курс первого иностранного языка
LOCATION:9 к. 133
END:VEVENT
BEGIN:VEVENT
UID:sg64@192.168.245.71:3006
SEQUENCE:0
DTSTAMP:20260421T032337Z
DTSTART:20260428T070000Z
DTEND:20260428T084000Z
SUMMARY:Практический курс первого иностранного языка
LOCATION:9 к. 221
END:VEVENT
BEGIN:VEVENT
UID:bdfb@192.168.245.71:3006
SEQUENCE:0
DTSTAMP:20260421T032337Z
DTSTART:20260428T090000Z
DTEND:20260428T104000Z
SUMMARY:Элективная физическая культура и спорт
LOCATION:СК Спортивный зал
END:VEVENT
BEGIN:VEVENT
UID:pkvt@192.168.245.71:3006
SEQUENCE:0
DTSTAMP:20260421T032337Z
DTSTART:20260428T110000Z
DTEND:20260428T124000Z
SUMMARY:Практический курс первого иностранного языка
LOCATION:9 к. 508
END:VEVENT
BEGIN:VEVENT
UID:2tmm@192.168.245.71:3006
SEQUENCE:0
DTSTAMP:20260421T032337Z
DTSTART:20260428T110000Z
DTEND:20260428T124000Z
SUMMARY:Практический курс первого иностранного языка
LOCATION:6 к. 11
END:VEVENT
BEGIN:VEVENT
UID:2nrt@192.168.245.71:3006
SEQUENCE:0
DTSTAMP:20260421T032337Z
DTSTART:20260429T070000Z
DTEND:20260429T084000Z
SUMMARY:Практический курс второго иностранного языка (английский язык для 
 иностранных студентов)
LOCATION:9 к. 514
END:VEVENT
BEGIN:VEVENT
UID:d62l@192.168.245.71:3006
SEQUENCE:0
DTSTAMP:20260421T032337Z
DTSTART:20260429T070000Z
DTEND:20260429T084000Z
SUMMARY:Практический курс второго иностранного языка (французский язык)
LOCATION:9 к. 127
END:VEVENT
BEGIN:VEVENT
UID:zhuw@192.168.245.71:3006
SEQUENCE:0
DTSTAMP:20260421T032337Z
DTSTART:20260429T090000Z
DTEND:20260429T104000Z
SUMMARY:Практический курс первого иностранного языка
LOCATION:9 к. 535
END:VEVENT
BEGIN:VEVENT
UID:53mh@192.168.245.71:3006
SEQUENCE:0
DTSTAMP:20260421T032337Z
DTSTART:20260429T110000Z
DTEND:20260429T124000Z
SUMMARY:Практический курс первого иностранного языка
LOCATION:9 к. 518
END:VEVENT
BEGIN:VEVENT
UID:5k3u@192.168.245.71:3006
SEQUENCE:0
DTSTAMP:20260421T032337Z
DTSTART:20260429T130000Z
DTEND:20260429T144000Z
SUMMARY:Практический курс второго иностранного языка (английский язык для 
 иностранных студентов)
LOCATION:9 к. 514
END:VEVENT
BEGIN:VEVENT
UID:6gba@192.168.245.71:3006
SEQUENCE:0
DTSTAMP:20260421T032337Z
DTSTART:20260430T130000Z
DTEND:20260430T144000Z
SUMMARY:Практический курс второго иностранного языка (английский язык для 
 иностранных студентов)
LOCATION:9 к. 313
END:VEVENT
END:VCALENDAR