BEGIN:VCALENDAR
VERSION:2.0
PRODID:-//spbstu.ru//ical//RU
NAME:Расписание группы 3844101/40202
X-WR-CALNAME:Расписание группы 3844101/40202
TIMEZONE-ID:Europe/Moscow
X-WR-TIMEZONE:Europe/Moscow
BEGIN:VEVENT
UID:oji4@192.168.245.71:3006
SEQUENCE:0
DTSTAMP:20260425T194229Z
DTSTART:20251027T090000Z
DTEND:20251027T104000Z
SUMMARY:Ведение политического дискурса (на английском языке)
LOCATION:16 к. 510
END:VEVENT
BEGIN:VEVENT
UID:u5ys@192.168.245.71:3006
SEQUENCE:0
DTSTAMP:20260425T194229Z
DTSTART:20251027T110000Z
DTEND:20251027T124000Z
SUMMARY:Ведение политического дискурса (на английском языке)
LOCATION:16 к. 510
END:VEVENT
BEGIN:VEVENT
UID:svba@192.168.245.71:3006
SEQUENCE:0
DTSTAMP:20260425T194229Z
DTSTART:20251028T090000Z
DTEND:20251028T104000Z
SUMMARY:Образование\, наука и культура в странах Восточной Азии
LOCATION:16 к. 114
END:VEVENT
BEGIN:VEVENT
UID:tka1@192.168.245.71:3006
SEQUENCE:0
DTSTAMP:20260425T194229Z
DTSTART:20251028T110000Z
DTEND:20251028T124000Z
SUMMARY:Внешнеполитические процессы государств Восточной Азии в современно
 й системе международных отношений
LOCATION:16 к. 514
END:VEVENT
BEGIN:VEVENT
UID:yriy@192.168.245.71:3006
SEQUENCE:0
DTSTAMP:20260425T194229Z
DTSTART:20251028T130000Z
DTEND:20251028T144000Z
SUMMARY:Интеграционные проекты в Азиатском регионе и международное сотрудн
 ичество в рамках их реализации
LOCATION:16 к. 514
END:VEVENT
BEGIN:VEVENT
UID:5jqz@192.168.245.71:3006
SEQUENCE:0
DTSTAMP:20260425T194229Z
DTSTART:20251028T150000Z
DTEND:20251028T164000Z
SUMMARY:Русский язык
LOCATION:16 к. 521
END:VEVENT
BEGIN:VEVENT
UID:e1o4@192.168.245.71:3006
SEQUENCE:0
DTSTAMP:20260425T194229Z
DTSTART:20251030T110000Z
DTEND:20251030T124000Z
SUMMARY:Русский язык
LOCATION:16 к. 209
END:VEVENT
BEGIN:VEVENT
UID:kh9p@192.168.245.71:3006
SEQUENCE:0
DTSTAMP:20260425T194229Z
DTSTART:20251030T130000Z
DTEND:20251030T144000Z
SUMMARY:Русский язык
LOCATION:16 к. 209
END:VEVENT
BEGIN:VEVENT
UID:7wod@192.168.245.71:3006
SEQUENCE:0
DTSTAMP:20260425T194229Z
DTSTART:20251031T090000Z
DTEND:20251031T104000Z
SUMMARY:Восточная Азия в мировом информационном пространстве
LOCATION:16 к. 114
END:VEVENT
BEGIN:VEVENT
UID:tt2a@192.168.245.71:3006
SEQUENCE:0
DTSTAMP:20260425T194229Z
DTSTART:20251031T110000Z
DTEND:20251031T124000Z
SUMMARY:Русский язык
LOCATION:16 к. 523
END:VEVENT
BEGIN:VEVENT
UID:ln2i@192.168.245.71:3006
SEQUENCE:0
DTSTAMP:20260425T194229Z
DTSTART:20251031T130000Z
DTEND:20251031T144000Z
SUMMARY:Восточная Азия в мировом информационном пространстве
LOCATION:16 к. 113
END:VEVENT
BEGIN:VEVENT
UID:hvht@192.168.245.71:3006
SEQUENCE:0
DTSTAMP:20260425T194229Z
DTSTART:20251101T070000Z
DTEND:20251101T084000Z
SUMMARY:Деловой этикет и этнокультурные особенности народов Восточной Азии
LOCATION:16 к. 114
END:VEVENT
BEGIN:VEVENT
UID:3g4k@192.168.245.71:3006
SEQUENCE:0
DTSTAMP:20260425T194229Z
DTSTART:20251101T090000Z
DTEND:20251101T104000Z
SUMMARY:Деловой этикет и этнокультурные особенности народов Восточной Азии
LOCATION:16 к. 114
END:VEVENT
BEGIN:VEVENT
UID:1bvv@192.168.245.71:3006
SEQUENCE:0
DTSTAMP:20260425T194229Z
DTSTART:20251101T110000Z
DTEND:20251101T124000Z
SUMMARY:Внешнеполитические процессы государств Восточной Азии в современно
 й системе международных отношений
LOCATION:16 к. 114
END:VEVENT
BEGIN:VEVENT
UID:24sh@192.168.245.71:3006
SEQUENCE:0
DTSTAMP:20260425T194229Z
DTSTART:20251101T130000Z
DTEND:20251101T144000Z
SUMMARY:Образование\, наука и культура в странах Восточной Азии
LOCATION:16 к. 121
END:VEVENT
END:VCALENDAR