BEGIN:VCALENDAR
VERSION:2.0
PRODID:-//spbstu.ru//ical//RU
NAME:Расписание группы 3844101/40202
X-WR-CALNAME:Расписание группы 3844101/40202
TIMEZONE-ID:Europe/Moscow
X-WR-TIMEZONE:Europe/Moscow
BEGIN:VEVENT
UID:pyed@192.168.245.71:3006
SEQUENCE:0
DTSTAMP:20260423T222601Z
DTSTART:20260112T130000Z
DTEND:20260112T134500Z
SUMMARY:Русский язык
LOCATION:16 к. 114
END:VEVENT
BEGIN:VEVENT
UID:mj7n@192.168.245.71:3006
SEQUENCE:0
DTSTAMP:20260423T222601Z
DTSTART:20260113T140000Z
DTEND:20260113T154000Z
SUMMARY:Русский язык
LOCATION:16 к. 518
END:VEVENT
BEGIN:VEVENT
UID:u184@192.168.245.71:3006
SEQUENCE:0
DTSTAMP:20260423T222601Z
DTSTART:20260115T090000Z
DTEND:20260115T094500Z
SUMMARY:Деловой этикет и этнокультурные особенности народов Восточной Азии
LOCATION:16 к. 200
END:VEVENT
BEGIN:VEVENT
UID:v9sj@192.168.245.71:3006
SEQUENCE:0
DTSTAMP:20260423T222601Z
DTSTART:20260116T110000Z
DTEND:20260116T122000Z
SUMMARY:Деловой этикет и этнокультурные особенности народов Восточной Азии
LOCATION:16 к. 121
END:VEVENT
END:VCALENDAR