BEGIN:VCALENDAR
VERSION:2.0
PRODID:-//spbstu.ru//ical//RU
NAME:Расписание группы 3844201/40401
X-WR-CALNAME:Расписание группы 3844201/40401
TIMEZONE-ID:Europe/Moscow
X-WR-TIMEZONE:Europe/Moscow
BEGIN:VEVENT
UID:b3zf@192.168.245.71:3006
SEQUENCE:0
DTSTAMP:20260424T105557Z
DTSTART:20251225T080000Z
DTEND:20251225T084500Z
SUMMARY:Медиааналитика
LOCATION:16 к. 210
END:VEVENT
BEGIN:VEVENT
UID:r0ck@192.168.245.71:3006
SEQUENCE:0
DTSTAMP:20260424T105557Z
DTSTART:20251225T080000Z
DTEND:20251225T084500Z
SUMMARY:Коммуникационные проекты в индустриях 4.0
LOCATION:16 к. 506
END:VEVENT
BEGIN:VEVENT
UID:kqkn@192.168.245.71:3006
SEQUENCE:0
DTSTAMP:20260424T105557Z
DTSTART:20251225T090000Z
DTEND:20251225T110000Z
SUMMARY:Коммуникационные проекты в индустриях 4.0
LOCATION:16 к. 506
END:VEVENT
END:VCALENDAR