BEGIN:VCALENDAR
VERSION:2.0
PRODID:-//spbstu.ru//ical//RU
NAME:Расписание группы 3844201/40401
X-WR-CALNAME:Расписание группы 3844201/40401
TIMEZONE-ID:Europe/Moscow
X-WR-TIMEZONE:Europe/Moscow
BEGIN:VEVENT
UID:t2oo@192.168.245.71:3006
SEQUENCE:0
DTSTAMP:20260423T214059Z
DTSTART:20260116T090000Z
DTEND:20260116T094500Z
SUMMARY:Коммуникационные проекты в индустриях 4.0
LOCATION:16 к. 201
END:VEVENT
BEGIN:VEVENT
UID:ot1j@192.168.245.71:3006
SEQUENCE:0
DTSTAMP:20260423T214059Z
DTSTART:20260116T100000Z
DTEND:20260116T104500Z
SUMMARY:Медиааналитика
LOCATION:16 к. 201
END:VEVENT
END:VCALENDAR