BEGIN:VCALENDAR
VERSION:2.0
PRODID:-//spbstu.ru//ical//RU
NAME:Расписание группы 3844201/40401
X-WR-CALNAME:Расписание группы 3844201/40401
TIMEZONE-ID:Europe/Moscow
X-WR-TIMEZONE:Europe/Moscow
BEGIN:VEVENT
UID:u2ud@192.168.245.71:3006
SEQUENCE:0
DTSTAMP:20260422T124226Z
DTSTART:20260325T070000Z
DTEND:20260325T084000Z
SUMMARY:GR и лоббизм
LOCATION:16 к. 201
END:VEVENT
BEGIN:VEVENT
UID:n27v@192.168.245.71:3006
SEQUENCE:0
DTSTAMP:20260422T124226Z
DTSTART:20260325T090000Z
DTEND:20260325T104000Z
SUMMARY:GR и лоббизм
LOCATION:16 к. 201
END:VEVENT
BEGIN:VEVENT
UID:tdgi@192.168.245.71:3006
SEQUENCE:0
DTSTAMP:20260422T124226Z
DTSTART:20260325T110000Z
DTEND:20260325T124000Z
SUMMARY:GR и лоббизм
LOCATION:16 к. 201
END:VEVENT
BEGIN:VEVENT
UID:q5ik@192.168.245.71:3006
SEQUENCE:0
DTSTAMP:20260422T124226Z
DTSTART:20260325T150000Z
DTEND:20260325T154500Z
SUMMARY:Проектная практика
LOCATION:16 к. 209
END:VEVENT
BEGIN:VEVENT
UID:14bt@192.168.245.71:3006
SEQUENCE:0
DTSTAMP:20260422T124226Z
DTSTART:20260325T150000Z
DTEND:20260325T154500Z
SUMMARY:Медиааналитика
LOCATION:16 к. 209
END:VEVENT
BEGIN:VEVENT
UID:q2to@192.168.245.71:3006
SEQUENCE:0
DTSTAMP:20260422T124226Z
DTSTART:20260325T150000Z
DTEND:20260325T154500Z
SUMMARY:Образовательный форсайт
LOCATION:16 к. 209
END:VEVENT
BEGIN:VEVENT
UID:w4cy@192.168.245.71:3006
SEQUENCE:0
DTSTAMP:20260422T124226Z
DTSTART:20260325T150000Z
DTEND:20260325T154500Z
SUMMARY:Научно-исследовательская работа
LOCATION:16 к. 209
END:VEVENT
END:VCALENDAR