BEGIN:VCALENDAR
VERSION:2.0
PRODID:-//spbstu.ru//ical//RU
NAME:Расписание группы 3844201/40601
X-WR-CALNAME:Расписание группы 3844201/40601
TIMEZONE-ID:Europe/Moscow
X-WR-TIMEZONE:Europe/Moscow
BEGIN:VEVENT
UID:hqnv@192.168.245.71:3006
SEQUENCE:0
DTSTAMP:20260424T131446Z
DTSTART:20251124T130000Z
DTEND:20251124T144000Z
SUMMARY:Реклама в сетевых коммуникациях (на английском языке)
LOCATION:16 к. 201
END:VEVENT
BEGIN:VEVENT
UID:sn9q@192.168.245.71:3006
SEQUENCE:0
DTSTAMP:20260424T131446Z
DTSTART:20251125T130000Z
DTEND:20251125T144000Z
SUMMARY:Визуальные коммуникации (на английском языке)
LOCATION:16 к. 215
END:VEVENT
BEGIN:VEVENT
UID:it4y@192.168.245.71:3006
SEQUENCE:0
DTSTAMP:20260424T131446Z
DTSTART:20251125T150000Z
DTEND:20251125T164000Z
SUMMARY:Визуальные коммуникации (на английском языке)
LOCATION:16 к. 215
END:VEVENT
BEGIN:VEVENT
UID:fgi3@192.168.245.71:3006
SEQUENCE:0
DTSTAMP:20260424T131446Z
DTSTART:20251129T050000Z
DTEND:20251129T064000Z
SUMMARY:Международный бренд-менеджмент (на английском языке)
LOCATION:16 к. 213
END:VEVENT
BEGIN:VEVENT
UID:izwy@192.168.245.71:3006
SEQUENCE:0
DTSTAMP:20260424T131446Z
DTSTART:20251129T070000Z
DTEND:20251129T084000Z
SUMMARY:Международный бренд-менеджмент (на английском языке)
LOCATION:16 к. 213
END:VEVENT
END:VCALENDAR