BEGIN:VCALENDAR
VERSION:2.0
PRODID:-//spbstu.ru//ical//RU
NAME:Расписание группы 3844201/40601
X-WR-CALNAME:Расписание группы 3844201/40601
TIMEZONE-ID:Europe/Moscow
X-WR-TIMEZONE:Europe/Moscow
BEGIN:VEVENT
UID:56lf@192.168.245.71:3006
SEQUENCE:0
DTSTAMP:20260422T040928Z
DTSTART:20260328T070000Z
DTEND:20260328T084000Z
SUMMARY:Интерпретация и презентация результатов исследований (на английско
 м языке)
LOCATION:16 к. 201
END:VEVENT
BEGIN:VEVENT
UID:posn@192.168.245.71:3006
SEQUENCE:0
DTSTAMP:20260422T040928Z
DTSTART:20260328T090000Z
DTEND:20260328T104000Z
SUMMARY:Интерпретация и презентация результатов исследований (на английско
 м языке)
LOCATION:16 к. 201
END:VEVENT
END:VCALENDAR