BEGIN:VCALENDAR
VERSION:2.0
PRODID:-//spbstu.ru//ical//RU
NAME:Расписание группы 3844203/40301
X-WR-CALNAME:Расписание группы 3844203/40301
TIMEZONE-ID:Europe/Moscow
X-WR-TIMEZONE:Europe/Moscow
BEGIN:VEVENT
UID:wskh@192.168.245.71:3006
SEQUENCE:0
DTSTAMP:20260424T175328Z
DTSTART:20260119T130000Z
DTEND:20260119T134500Z
SUMMARY:Редакторская подготовка издания: практикум
LOCATION:16 к. 214
END:VEVENT
BEGIN:VEVENT
UID:ahmc@192.168.245.71:3006
SEQUENCE:0
DTSTAMP:20260424T175328Z
DTSTART:20260120T130000Z
DTEND:20260120T134500Z
SUMMARY:Редакторская подготовка издания: практикум
LOCATION:16 к. 211
END:VEVENT
BEGIN:VEVENT
UID:e8ig@192.168.245.71:3006
SEQUENCE:0
DTSTAMP:20260424T175328Z
DTSTART:20260120T140000Z
DTEND:20260120T144500Z
SUMMARY:Образовательный форсайт
LOCATION:16 к. 211
END:VEVENT
END:VCALENDAR