BEGIN:VCALENDAR
VERSION:2.0
PRODID:-//spbstu.ru//ical//RU
NAME:Расписание группы 3844401/40201
X-WR-CALNAME:Расписание группы 3844401/40201
TIMEZONE-ID:Europe/Moscow
X-WR-TIMEZONE:Europe/Moscow
BEGIN:VEVENT
UID:6gpi@192.168.245.71:3006
SEQUENCE:0
DTSTAMP:20260426T040510Z
DTSTART:20251125T070000Z
DTEND:20251125T084000Z
SUMMARY:Педагогический дизайн в преподавании иностранных языков (на англий
 ском языке)
LOCATION:9 к. 216
END:VEVENT
BEGIN:VEVENT
UID:6fm6@192.168.245.71:3006
SEQUENCE:0
DTSTAMP:20260426T040510Z
DTSTART:20251125T090000Z
DTEND:20251125T104000Z
SUMMARY:Технологии дистанционного обучения иностранному языку (на английск
 ом языке)
LOCATION:9 к. 216
END:VEVENT
BEGIN:VEVENT
UID:muzr@192.168.245.71:3006
SEQUENCE:0
DTSTAMP:20260426T040510Z
DTSTART:20251125T110000Z
DTEND:20251125T124000Z
SUMMARY:Профессионально-ориентированный практикум иностранного языка
LOCATION:9 к. 415
END:VEVENT
BEGIN:VEVENT
UID:v1a7@192.168.245.71:3006
SEQUENCE:0
DTSTAMP:20260426T040510Z
DTSTART:20251126T070000Z
DTEND:20251126T084000Z
SUMMARY:Межкультурная коммуникация в образовании (на английском языке)
LOCATION:9 к. 217
END:VEVENT
BEGIN:VEVENT
UID:60iy@192.168.245.71:3006
SEQUENCE:0
DTSTAMP:20260426T040510Z
DTSTART:20251126T090000Z
DTEND:20251126T104000Z
SUMMARY:Профессионально-ориентированный практикум иностранного языка
LOCATION:9 к. 217
END:VEVENT
END:VCALENDAR