BEGIN:VCALENDAR
VERSION:2.0
PRODID:-//spbstu.ru//ical//RU
NAME:Расписание группы 3844401/40201
X-WR-CALNAME:Расписание группы 3844401/40201
TIMEZONE-ID:Europe/Moscow
X-WR-TIMEZONE:Europe/Moscow
BEGIN:VEVENT
UID:2w12@192.168.245.71:3006
SEQUENCE:0
DTSTAMP:20260421T174717Z
DTSTART:20260407T150000Z
DTEND:20260407T160000Z
SUMMARY:Образовательный форсайт
LOCATION:9 к. 210
END:VEVENT
BEGIN:VEVENT
UID:ouvu@192.168.245.71:3006
SEQUENCE:0
DTSTAMP:20260421T174717Z
DTSTART:20260407T150000Z
DTEND:20260407T160000Z
SUMMARY:Технологии дистанционного обучения иностранному языку (на английск
 ом языке)
LOCATION:9 к. 210
END:VEVENT
END:VCALENDAR