BEGIN:VCALENDAR
VERSION:2.0
PRODID:-//spbstu.ru//ical//RU
NAME:Расписание группы 3844502/40501
X-WR-CALNAME:Расписание группы 3844502/40501
TIMEZONE-ID:Europe/Moscow
X-WR-TIMEZONE:Europe/Moscow
BEGIN:VEVENT
UID:cfcy@192.168.245.71:3006
SEQUENCE:0
DTSTAMP:20260425T225736Z
DTSTART:20251209T110000Z
DTEND:20251209T124000Z
SUMMARY:Практикум по культуре речевого общения второго иностранного языка 
 (испанский язык)
LOCATION:9 к. 508
END:VEVENT
BEGIN:VEVENT
UID:k8qy@192.168.245.71:3006
SEQUENCE:0
DTSTAMP:20260425T225736Z
DTSTART:20251209T130000Z
DTEND:20251209T144000Z
SUMMARY:Практикум по культуре речевого общения второго иностранного языка 
 (испанский язык)
LOCATION:9 к. 508
END:VEVENT
BEGIN:VEVENT
UID:183u@192.168.245.71:3006
SEQUENCE:0
DTSTAMP:20260425T225736Z
DTSTART:20251211T090000Z
DTEND:20251211T104000Z
SUMMARY:Цифровые технологии в обучении русскому языку как иностранному
LOCATION:9 к. 117
END:VEVENT
BEGIN:VEVENT
UID:xmg1@192.168.245.71:3006
SEQUENCE:0
DTSTAMP:20260425T225736Z
DTSTART:20251211T110000Z
DTEND:20251211T124000Z
SUMMARY:Практикум по профессиональной  межкультурной коммуникации на иност
 ранном языке
LOCATION:9 к. 325
END:VEVENT
BEGIN:VEVENT
UID:je43@192.168.245.71:3006
SEQUENCE:0
DTSTAMP:20260425T225736Z
DTSTART:20251212T090000Z
DTEND:20251212T104000Z
SUMMARY:Лингвистический анализ и интерпретация текста
LOCATION:6 к. 18
END:VEVENT
BEGIN:VEVENT
UID:asvl@192.168.245.71:3006
SEQUENCE:0
DTSTAMP:20260425T225736Z
DTSTART:20251213T070000Z
DTEND:20251213T084000Z
SUMMARY:Этнолингвистика
LOCATION:DL Дистанционно
END:VEVENT
BEGIN:VEVENT
UID:xxej@192.168.245.71:3006
SEQUENCE:0
DTSTAMP:20260425T225736Z
DTSTART:20251213T090000Z
DTEND:20251213T104000Z
SUMMARY:Проектная деятельность
LOCATION:DL Дистанционно
END:VEVENT
BEGIN:VEVENT
UID:2xb1@192.168.245.71:3006
SEQUENCE:0
DTSTAMP:20260425T225736Z
DTSTART:20251213T110000Z
DTEND:20251213T124000Z
SUMMARY:Проектная деятельность
LOCATION:DL Дистанционно
END:VEVENT
END:VCALENDAR