BEGIN:VCALENDAR
VERSION:2.0
PRODID:-//spbstu.ru//ical//RU
NAME:Расписание группы 3834101/30304
X-WR-CALNAME:Расписание группы 3834101/30304
TIMEZONE-ID:Europe/Moscow
X-WR-TIMEZONE:Europe/Moscow
BEGIN:VEVENT
UID:dbtw@192.168.245.71:3006
SEQUENCE:0
DTSTAMP:20260421T192012Z
DTSTART:20260518T070000Z
DTEND:20260518T084000Z
SUMMARY:Публичное право Китая
LOCATION:16 к. 114
END:VEVENT
BEGIN:VEVENT
UID:ft1e@192.168.245.71:3006
SEQUENCE:0
DTSTAMP:20260421T192012Z
DTSTART:20260518T090000Z
DTEND:20260518T104000Z
SUMMARY:Цифровые коммуникации и технологии в международной деятельности
LOCATION:16 к. 200
END:VEVENT
BEGIN:VEVENT
UID:9cfm@192.168.245.71:3006
SEQUENCE:0
DTSTAMP:20260421T192012Z
DTSTART:20260518T110000Z
DTEND:20260518T124000Z
SUMMARY:Культура Китая
LOCATION:16 к. 515
END:VEVENT
BEGIN:VEVENT
UID:h21x@192.168.245.71:3006
SEQUENCE:0
DTSTAMP:20260421T192012Z
DTSTART:20260518T130000Z
DTEND:20260518T144000Z
SUMMARY:Культура Китая
LOCATION:16 к. 515
END:VEVENT
END:VCALENDAR