BEGIN:VCALENDAR
VERSION:2.0
PRODID:-//spbstu.ru//ical//RU
NAME:Расписание группы 3834101/30305
X-WR-CALNAME:Расписание группы 3834101/30305
TIMEZONE-ID:Europe/Moscow
X-WR-TIMEZONE:Europe/Moscow
BEGIN:VEVENT
UID:lt1x@192.168.245.71:3006
SEQUENCE:0
DTSTAMP:20260421T132832Z
DTSTART:20260420T070000Z
DTEND:20260420T084000Z
SUMMARY:Публичное право Китая
LOCATION:16 к. 114
END:VEVENT
BEGIN:VEVENT
UID:0fhe@192.168.245.71:3006
SEQUENCE:0
DTSTAMP:20260421T132832Z
DTSTART:20260420T090000Z
DTEND:20260420T104000Z
SUMMARY:Цифровые коммуникации и технологии в международной деятельности
LOCATION:16 к. 200
END:VEVENT
BEGIN:VEVENT
UID:7j2p@192.168.245.71:3006
SEQUENCE:0
DTSTAMP:20260421T132832Z
DTSTART:20260420T110000Z
DTEND:20260420T124000Z
SUMMARY:Цифровые коммуникации и технологии в международной деятельности
LOCATION:16 к. 521
END:VEVENT
BEGIN:VEVENT
UID:ub32@192.168.245.71:3006
SEQUENCE:0
DTSTAMP:20260421T132832Z
DTSTART:20260420T130000Z
DTEND:20260420T144000Z
SUMMARY:Культура Китая
LOCATION:16 к. 515
END:VEVENT
BEGIN:VEVENT
UID:lubn@192.168.245.71:3006
SEQUENCE:0
DTSTAMP:20260421T132832Z
DTSTART:20260421T090000Z
DTEND:20260421T104000Z
SUMMARY:Практикум по переводу социально-политических текстов
LOCATION:16 к. 501
END:VEVENT
BEGIN:VEVENT
UID:tu29@192.168.245.71:3006
SEQUENCE:0
DTSTAMP:20260421T132832Z
DTSTART:20260421T110000Z
DTEND:20260421T124000Z
SUMMARY:Китайский язык: Профессионально-ориентированный курс
LOCATION:16 к. 111
END:VEVENT
BEGIN:VEVENT
UID:xg30@192.168.245.71:3006
SEQUENCE:0
DTSTAMP:20260421T132832Z
DTSTART:20260421T130000Z
DTEND:20260421T144000Z
SUMMARY:Китайский язык: Профессионально-ориентированный курс
LOCATION:16 к. 111
END:VEVENT
BEGIN:VEVENT
UID:z8r7@192.168.245.71:3006
SEQUENCE:0
DTSTAMP:20260421T132832Z
DTSTART:20260422T090000Z
DTEND:20260422T104000Z
SUMMARY:Региональные геополитические процессы
LOCATION:16 к. 200
END:VEVENT
BEGIN:VEVENT
UID:1fj9@192.168.245.71:3006
SEQUENCE:0
DTSTAMP:20260421T132832Z
DTSTART:20260422T110000Z
DTEND:20260422T124000Z
SUMMARY:Публичное право Китая
LOCATION:16 к. 511
END:VEVENT
BEGIN:VEVENT
UID:vyrf@192.168.245.71:3006
SEQUENCE:0
DTSTAMP:20260421T132832Z
DTSTART:20260422T130000Z
DTEND:20260422T144000Z
SUMMARY:Региональные геополитические процессы
LOCATION:16 к. 114
END:VEVENT
BEGIN:VEVENT
UID:1sng@192.168.245.71:3006
SEQUENCE:0
DTSTAMP:20260421T132832Z
DTSTART:20260424T110000Z
DTEND:20260424T124000Z
SUMMARY:Иностранный язык: Политический дискурс\, Английский\, часть 1
LOCATION:16 к. 119
END:VEVENT
BEGIN:VEVENT
UID:q0p6@192.168.245.71:3006
SEQUENCE:0
DTSTAMP:20260421T132832Z
DTSTART:20260424T130000Z
DTEND:20260424T144000Z
SUMMARY:Иностранный язык: Политический дискурс\, Английский\, часть 1
LOCATION:16 к. 119
END:VEVENT
BEGIN:VEVENT
UID:s8py@192.168.245.71:3006
SEQUENCE:0
DTSTAMP:20260421T132832Z
DTSTART:20260425T070000Z
DTEND:20260425T084000Z
SUMMARY:Китайский язык: Профессионально-ориентированный курс
LOCATION:16 к. 111
END:VEVENT
BEGIN:VEVENT
UID:defc@192.168.245.71:3006
SEQUENCE:0
DTSTAMP:20260421T132832Z
DTSTART:20260425T090000Z
DTEND:20260425T104000Z
SUMMARY:Китайский язык: Профессионально-ориентированный курс
LOCATION:16 к. 111
END:VEVENT
END:VCALENDAR