BEGIN:VCALENDAR
VERSION:2.0
PRODID:-//spbstu.ru//ical//RU
NAME:Расписание группы 3834101/30310
X-WR-CALNAME:Расписание группы 3834101/30310
TIMEZONE-ID:Europe/Moscow
X-WR-TIMEZONE:Europe/Moscow
BEGIN:VEVENT
UID:kzp0@192.168.245.71:3006
SEQUENCE:0
DTSTAMP:20260422T060222Z
DTSTART:20260601T130000Z
DTEND:20260601T142000Z
SUMMARY:Цифровые коммуникации и технологии в международной деятельности
LOCATION:16 к. 114
END:VEVENT
BEGIN:VEVENT
UID:whz8@192.168.245.71:3006
SEQUENCE:0
DTSTAMP:20260422T060222Z
DTSTART:20260605T070000Z
DTEND:20260605T082000Z
SUMMARY:Прикладные исследования в комплексном регионоведении
LOCATION:16 к. 121
END:VEVENT
END:VCALENDAR