BEGIN:VCALENDAR
VERSION:2.0
PRODID:-//spbstu.ru//ical//RU
NAME:Расписание группы 3834201/30101
X-WR-CALNAME:Расписание группы 3834201/30101
TIMEZONE-ID:Europe/Moscow
X-WR-TIMEZONE:Europe/Moscow
BEGIN:VEVENT
UID:dyl7@192.168.245.71:3006
SEQUENCE:0
DTSTAMP:20260423T164813Z
DTSTART:20251209T070000Z
DTEND:20251209T084000Z
SUMMARY:Медиапланирование
LOCATION:16 к. 214
END:VEVENT
BEGIN:VEVENT
UID:3li8@192.168.245.71:3006
SEQUENCE:0
DTSTAMP:20260423T164813Z
DTSTART:20251209T090000Z
DTEND:20251209T104000Z
SUMMARY:Социология массовых коммуникаций
LOCATION:16 к. 211
END:VEVENT
BEGIN:VEVENT
UID:uhcl@192.168.245.71:3006
SEQUENCE:0
DTSTAMP:20260423T164813Z
DTSTART:20251209T130000Z
DTEND:20251209T144000Z
SUMMARY:Социология массовых коммуникаций
LOCATION:16 к. 200
END:VEVENT
BEGIN:VEVENT
UID:yom2@192.168.245.71:3006
SEQUENCE:0
DTSTAMP:20260423T164813Z
DTSTART:20251210T070000Z
DTEND:20251210T084000Z
SUMMARY:Профессиональная этика в связях с общественностью
LOCATION:16 к. 400
END:VEVENT
BEGIN:VEVENT
UID:w8b4@192.168.245.71:3006
SEQUENCE:0
DTSTAMP:20260423T164813Z
DTSTART:20251210T090000Z
DTEND:20251210T104000Z
SUMMARY:Организация работы отделов рекламы и связей с общественностью
LOCATION:16 к. 509
END:VEVENT
BEGIN:VEVENT
UID:z98m@192.168.245.71:3006
SEQUENCE:0
DTSTAMP:20260423T164813Z
DTSTART:20251212T110000Z
DTEND:20251212T124000Z
SUMMARY:GR и лоббизм
LOCATION:16 к. 213
END:VEVENT
BEGIN:VEVENT
UID:pzvh@192.168.245.71:3006
SEQUENCE:0
DTSTAMP:20260423T164813Z
DTSTART:20251212T130000Z
DTEND:20251212T144000Z
SUMMARY:Организация работы отделов рекламы и связей с общественностью
LOCATION:16 к. 200
END:VEVENT
END:VCALENDAR