BEGIN:VCALENDAR
VERSION:2.0
PRODID:-//spbstu.ru//ical//RU
NAME:Расписание группы 3834201/30101
X-WR-CALNAME:Расписание группы 3834201/30101
TIMEZONE-ID:Europe/Moscow
X-WR-TIMEZONE:Europe/Moscow
BEGIN:VEVENT
UID:syff@192.168.245.71:3006
SEQUENCE:0
DTSTAMP:20260421T174718Z
DTSTART:20260324T090000Z
DTEND:20260324T104000Z
SUMMARY:Фирменный стиль
LOCATION:16 к. 200
END:VEVENT
BEGIN:VEVENT
UID:pwpl@192.168.245.71:3006
SEQUENCE:0
DTSTAMP:20260421T174718Z
DTSTART:20260324T130000Z
DTEND:20260324T144000Z
SUMMARY:Креативность в коммуникационных проектах
LOCATION:16 к. 200
END:VEVENT
BEGIN:VEVENT
UID:y8uf@192.168.245.71:3006
SEQUENCE:0
DTSTAMP:20260421T174718Z
DTSTART:20260325T070000Z
DTEND:20260325T084000Z
SUMMARY:Фирменный стиль
LOCATION:16 к. 210
END:VEVENT
BEGIN:VEVENT
UID:mxwm@192.168.245.71:3006
SEQUENCE:0
DTSTAMP:20260421T174718Z
DTSTART:20260325T090000Z
DTEND:20260325T104000Z
SUMMARY:PR-текст в системе публичных коммуникаций
LOCATION:16 к. 514
END:VEVENT
BEGIN:VEVENT
UID:2bq9@192.168.245.71:3006
SEQUENCE:0
DTSTAMP:20260421T174718Z
DTSTART:20260325T110000Z
DTEND:20260325T124000Z
SUMMARY:Профессиональная языковая коммуникация специалиста PR и рекламы
LOCATION:16 к. 503
END:VEVENT
BEGIN:VEVENT
UID:pudr@192.168.245.71:3006
SEQUENCE:0
DTSTAMP:20260421T174718Z
DTSTART:20260325T130000Z
DTEND:20260325T144000Z
SUMMARY:PR-текст в системе публичных коммуникаций
LOCATION:16 к. 514
END:VEVENT
BEGIN:VEVENT
UID:udkm@192.168.245.71:3006
SEQUENCE:0
DTSTAMP:20260421T174718Z
DTSTART:20260326T070000Z
DTEND:20260326T084000Z
SUMMARY:Связи с общественностью в социальной сфере
LOCATION:16 к. 213
END:VEVENT
END:VCALENDAR