BEGIN:VCALENDAR
VERSION:2.0
PRODID:-//spbstu.ru//ical//RU
NAME:Расписание группы 3834201/30101
X-WR-CALNAME:Расписание группы 3834201/30101
TIMEZONE-ID:Europe/Moscow
X-WR-TIMEZONE:Europe/Moscow
BEGIN:VEVENT
UID:9fio@192.168.245.71:3006
SEQUENCE:0
DTSTAMP:20260421T173322Z
DTSTART:20260511T110000Z
DTEND:20260511T124000Z
SUMMARY:Профессиональная языковая коммуникация специалиста PR и рекламы
LOCATION:16 к. 214
END:VEVENT
BEGIN:VEVENT
UID:v1cf@192.168.245.71:3006
SEQUENCE:0
DTSTAMP:20260421T173322Z
DTSTART:20260512T110000Z
DTEND:20260512T124000Z
SUMMARY:Креативность в коммуникационных проектах
LOCATION:16 к. 200
END:VEVENT
BEGIN:VEVENT
UID:wdse@192.168.245.71:3006
SEQUENCE:0
DTSTAMP:20260421T173322Z
DTSTART:20260513T070000Z
DTEND:20260513T084000Z
SUMMARY:Фирменный стиль
LOCATION:16 к. 210
END:VEVENT
BEGIN:VEVENT
UID:6o65@192.168.245.71:3006
SEQUENCE:0
DTSTAMP:20260421T173322Z
DTSTART:20260513T090000Z
DTEND:20260513T104000Z
SUMMARY:PR-текст в системе публичных коммуникаций
LOCATION:16 к. 514
END:VEVENT
BEGIN:VEVENT
UID:acue@192.168.245.71:3006
SEQUENCE:0
DTSTAMP:20260421T173322Z
DTSTART:20260513T110000Z
DTEND:20260513T124000Z
SUMMARY:Профессиональная языковая коммуникация специалиста PR и рекламы
LOCATION:16 к. 503
END:VEVENT
BEGIN:VEVENT
UID:pu85@192.168.245.71:3006
SEQUENCE:0
DTSTAMP:20260421T173322Z
DTSTART:20260513T130000Z
DTEND:20260513T144000Z
SUMMARY:PR-текст в системе публичных коммуникаций
LOCATION:16 к. 514
END:VEVENT
BEGIN:VEVENT
UID:obbi@192.168.245.71:3006
SEQUENCE:0
DTSTAMP:20260421T173322Z
DTSTART:20260514T070000Z
DTEND:20260514T084000Z
SUMMARY:Креативность в коммуникационных проектах
LOCATION:16 к. 203
END:VEVENT
BEGIN:VEVENT
UID:s3a3@192.168.245.71:3006
SEQUENCE:0
DTSTAMP:20260421T173322Z
DTSTART:20260514T090000Z
DTEND:20260514T104000Z
SUMMARY:Связи с общественностью в социальной сфере
LOCATION:16 к. 414
END:VEVENT
END:VCALENDAR