BEGIN:VCALENDAR
VERSION:2.0
PRODID:-//spbstu.ru//ical//RU
NAME:Расписание группы 3834201/30102
X-WR-CALNAME:Расписание группы 3834201/30102
TIMEZONE-ID:Europe/Moscow
X-WR-TIMEZONE:Europe/Moscow
BEGIN:VEVENT
UID:uvz6@192.168.245.71:3006
SEQUENCE:0
DTSTAMP:20260424T145541Z
DTSTART:20251028T110000Z
DTEND:20251028T124000Z
SUMMARY:Медиапланирование
LOCATION:16 к. 521
END:VEVENT
BEGIN:VEVENT
UID:jbhd@192.168.245.71:3006
SEQUENCE:0
DTSTAMP:20260424T145541Z
DTSTART:20251028T130000Z
DTEND:20251028T144000Z
SUMMARY:Социология массовых коммуникаций
LOCATION:16 к. 200
END:VEVENT
BEGIN:VEVENT
UID:714b@192.168.245.71:3006
SEQUENCE:0
DTSTAMP:20260424T145541Z
DTSTART:20251029T070000Z
DTEND:20251029T084000Z
SUMMARY:Профессиональная этика в связях с общественностью
LOCATION:16 к. 400
END:VEVENT
BEGIN:VEVENT
UID:tdpc@192.168.245.71:3006
SEQUENCE:0
DTSTAMP:20260424T145541Z
DTSTART:20251029T090000Z
DTEND:20251029T104000Z
SUMMARY:Профессиональная этика в связях с общественностью
LOCATION:16 к. 213
END:VEVENT
BEGIN:VEVENT
UID:y4vm@192.168.245.71:3006
SEQUENCE:0
DTSTAMP:20260424T145541Z
DTSTART:20251029T110000Z
DTEND:20251029T124000Z
SUMMARY:Социология массовых коммуникаций
LOCATION:16 к. 211
END:VEVENT
BEGIN:VEVENT
UID:mc9h@192.168.245.71:3006
SEQUENCE:0
DTSTAMP:20260424T145541Z
DTSTART:20251031T110000Z
DTEND:20251031T124000Z
SUMMARY:Организация работы отделов рекламы и связей с общественностью
LOCATION:16 к. 501
END:VEVENT
BEGIN:VEVENT
UID:r24p@192.168.245.71:3006
SEQUENCE:0
DTSTAMP:20260424T145541Z
DTSTART:20251031T130000Z
DTEND:20251031T144000Z
SUMMARY:Организация работы отделов рекламы и связей с общественностью
LOCATION:16 к. 200
END:VEVENT
END:VCALENDAR