BEGIN:VCALENDAR
VERSION:2.0
PRODID:-//spbstu.ru//ical//RU
NAME:Расписание группы 3834201/30102
X-WR-CALNAME:Расписание группы 3834201/30102
TIMEZONE-ID:Europe/Moscow
X-WR-TIMEZONE:Europe/Moscow
BEGIN:VEVENT
UID:dfnv@192.168.245.71:3006
SEQUENCE:0
DTSTAMP:20260424T002644Z
DTSTART:20251125T110000Z
DTEND:20251125T124000Z
SUMMARY:Медиапланирование
LOCATION:15 к. 711
END:VEVENT
BEGIN:VEVENT
UID:fhyp@192.168.245.71:3006
SEQUENCE:0
DTSTAMP:20260424T002644Z
DTSTART:20251125T130000Z
DTEND:20251125T144000Z
SUMMARY:Социология массовых коммуникаций
LOCATION:16 к. 200
END:VEVENT
BEGIN:VEVENT
UID:4aaq@192.168.245.71:3006
SEQUENCE:0
DTSTAMP:20260424T002644Z
DTSTART:20251126T070000Z
DTEND:20251126T084000Z
SUMMARY:Профессиональная этика в связях с общественностью
LOCATION:16 к. 400
END:VEVENT
BEGIN:VEVENT
UID:i4us@192.168.245.71:3006
SEQUENCE:0
DTSTAMP:20260424T002644Z
DTSTART:20251126T090000Z
DTEND:20251126T104000Z
SUMMARY:Профессиональная этика в связях с общественностью
LOCATION:16 к. 213
END:VEVENT
BEGIN:VEVENT
UID:uf64@192.168.245.71:3006
SEQUENCE:0
DTSTAMP:20260424T002644Z
DTSTART:20251126T110000Z
DTEND:20251126T124000Z
SUMMARY:Социология массовых коммуникаций
LOCATION:16 к. 211
END:VEVENT
BEGIN:VEVENT
UID:eles@192.168.245.71:3006
SEQUENCE:0
DTSTAMP:20260424T002644Z
DTSTART:20251128T110000Z
DTEND:20251128T124000Z
SUMMARY:Организация работы отделов рекламы и связей с общественностью
LOCATION:15 к. 711
END:VEVENT
BEGIN:VEVENT
UID:0zxw@192.168.245.71:3006
SEQUENCE:0
DTSTAMP:20260424T002644Z
DTSTART:20251128T130000Z
DTEND:20251128T144000Z
SUMMARY:Организация работы отделов рекламы и связей с общественностью
LOCATION:16 к. 200
END:VEVENT
END:VCALENDAR