BEGIN:VCALENDAR
VERSION:2.0
PRODID:-//spbstu.ru//ical//RU
NAME:Расписание группы 3834201/30103
X-WR-CALNAME:Расписание группы 3834201/30103
TIMEZONE-ID:Europe/Moscow
X-WR-TIMEZONE:Europe/Moscow
BEGIN:VEVENT
UID:axvs@192.168.245.71:3006
SEQUENCE:0
DTSTAMP:20260425T134733Z
DTSTART:20250902T110000Z
DTEND:20250902T124000Z
SUMMARY:Социология массовых коммуникаций
LOCATION:16 к. 211
END:VEVENT
BEGIN:VEVENT
UID:iu6c@192.168.245.71:3006
SEQUENCE:0
DTSTAMP:20260425T134733Z
DTSTART:20250902T130000Z
DTEND:20250902T144000Z
SUMMARY:Социология массовых коммуникаций
LOCATION:16 к. 200
END:VEVENT
BEGIN:VEVENT
UID:sh9w@192.168.245.71:3006
SEQUENCE:0
DTSTAMP:20260425T134733Z
DTSTART:20250903T070000Z
DTEND:20250903T084000Z
SUMMARY:Профессиональная этика в связях с общественностью
LOCATION:16 к. 400
END:VEVENT
BEGIN:VEVENT
UID:1pda@192.168.245.71:3006
SEQUENCE:0
DTSTAMP:20260425T134733Z
DTSTART:20250903T090000Z
DTEND:20250903T104000Z
SUMMARY:GR и лоббизм
LOCATION:16 к. 211
END:VEVENT
BEGIN:VEVENT
UID:esnv@192.168.245.71:3006
SEQUENCE:0
DTSTAMP:20260425T134733Z
DTSTART:20250903T130000Z
DTEND:20250903T144000Z
SUMMARY:Образовательный форсайт
LOCATION:16 к. 514
END:VEVENT
BEGIN:VEVENT
UID:4t8h@192.168.245.71:3006
SEQUENCE:0
DTSTAMP:20260425T134733Z
DTSTART:20250905T130000Z
DTEND:20250905T144000Z
SUMMARY:Организация работы отделов рекламы и связей с общественностью
LOCATION:16 к. 200
END:VEVENT
END:VCALENDAR