BEGIN:VCALENDAR
VERSION:2.0
PRODID:-//spbstu.ru//ical//RU
NAME:Расписание группы 3834201/30103
X-WR-CALNAME:Расписание группы 3834201/30103
TIMEZONE-ID:Europe/Moscow
X-WR-TIMEZONE:Europe/Moscow
BEGIN:VEVENT
UID:416u@192.168.245.71:3006
SEQUENCE:0
DTSTAMP:20260424T184124Z
DTSTART:20250923T090000Z
DTEND:20250923T104000Z
SUMMARY:Медиапланирование
LOCATION:16 к. 509
END:VEVENT
BEGIN:VEVENT
UID:ykf3@192.168.245.71:3006
SEQUENCE:0
DTSTAMP:20260424T184124Z
DTSTART:20250923T110000Z
DTEND:20250923T124000Z
SUMMARY:Социология массовых коммуникаций
LOCATION:16 к. 211
END:VEVENT
BEGIN:VEVENT
UID:kveo@192.168.245.71:3006
SEQUENCE:0
DTSTAMP:20260424T184124Z
DTSTART:20250923T130000Z
DTEND:20250923T144000Z
SUMMARY:Медиапланирование
LOCATION:16 к. 200
END:VEVENT
BEGIN:VEVENT
UID:qjzu@192.168.245.71:3006
SEQUENCE:0
DTSTAMP:20260424T184124Z
DTSTART:20250924T070000Z
DTEND:20250924T084000Z
SUMMARY:GR и лоббизм
LOCATION:16 к. 400
END:VEVENT
BEGIN:VEVENT
UID:2bdg@192.168.245.71:3006
SEQUENCE:0
DTSTAMP:20260424T184124Z
DTSTART:20250924T090000Z
DTEND:20250924T104000Z
SUMMARY:Профессиональная этика в связях с общественностью
LOCATION:16 к. 213
END:VEVENT
BEGIN:VEVENT
UID:q697@192.168.245.71:3006
SEQUENCE:0
DTSTAMP:20260424T184124Z
DTSTART:20250924T110000Z
DTEND:20250924T124000Z
SUMMARY:GR и лоббизм
LOCATION:16 к. 511
END:VEVENT
BEGIN:VEVENT
UID:4ywd@192.168.245.71:3006
SEQUENCE:0
DTSTAMP:20260424T184124Z
DTSTART:20250926T090000Z
DTEND:20250926T104000Z
SUMMARY:Организация работы отделов рекламы и связей с общественностью
LOCATION:16 к. 509
END:VEVENT
END:VCALENDAR