BEGIN:VCALENDAR
VERSION:2.0
PRODID:-//spbstu.ru//ical//RU
NAME:Расписание группы 3834201/30103
X-WR-CALNAME:Расписание группы 3834201/30103
TIMEZONE-ID:Europe/Moscow
X-WR-TIMEZONE:Europe/Moscow
BEGIN:VEVENT
UID:f2f2@192.168.245.71:3006
SEQUENCE:0
DTSTAMP:20260421T215344Z
DTSTART:20260310T090000Z
DTEND:20260310T104000Z
SUMMARY:Фирменный стиль
LOCATION:16 к. 200
END:VEVENT
BEGIN:VEVENT
UID:pzs2@192.168.245.71:3006
SEQUENCE:0
DTSTAMP:20260421T215344Z
DTSTART:20260311T070000Z
DTEND:20260311T084000Z
SUMMARY:Профессиональная языковая коммуникация специалиста PR и рекламы
LOCATION:16 к. 506
END:VEVENT
BEGIN:VEVENT
UID:27kg@192.168.245.71:3006
SEQUENCE:0
DTSTAMP:20260421T215344Z
DTSTART:20260311T090000Z
DTEND:20260311T104000Z
SUMMARY:PR-текст в системе публичных коммуникаций
LOCATION:16 к. 514
END:VEVENT
BEGIN:VEVENT
UID:wqyl@192.168.245.71:3006
SEQUENCE:0
DTSTAMP:20260421T215344Z
DTSTART:20260311T110000Z
DTEND:20260311T124000Z
SUMMARY:PR-текст в системе публичных коммуникаций
LOCATION:16 к. 514
END:VEVENT
BEGIN:VEVENT
UID:nppe@192.168.245.71:3006
SEQUENCE:0
DTSTAMP:20260421T215344Z
DTSTART:20260311T130000Z
DTEND:20260311T144000Z
SUMMARY:Фирменный стиль
LOCATION:16 к. 210
END:VEVENT
BEGIN:VEVENT
UID:2uu5@192.168.245.71:3006
SEQUENCE:0
DTSTAMP:20260421T215344Z
DTSTART:20260312T090000Z
DTEND:20260312T104000Z
SUMMARY:Креативность в коммуникационных проектах
LOCATION:16 к. 203
END:VEVENT
END:VCALENDAR