BEGIN:VCALENDAR
VERSION:2.0
PRODID:-//spbstu.ru//ical//RU
NAME:Расписание группы 3834201/30401
X-WR-CALNAME:Расписание группы 3834201/30401
TIMEZONE-ID:Europe/Moscow
X-WR-TIMEZONE:Europe/Moscow
BEGIN:VEVENT
UID:07xa@192.168.245.71:3006
SEQUENCE:0
DTSTAMP:20260424T084603Z
DTSTART:20251027T090000Z
DTEND:20251027T104000Z
SUMMARY:Социология массовых коммуникаций
LOCATION:16 к. 209
END:VEVENT
BEGIN:VEVENT
UID:qk0k@192.168.245.71:3006
SEQUENCE:0
DTSTAMP:20260424T084603Z
DTSTART:20251027T110000Z
DTEND:20251027T124000Z
SUMMARY:Копирайтинг в рекламе и PR
LOCATION:16 к. 211
END:VEVENT
BEGIN:VEVENT
UID:6lfq@192.168.245.71:3006
SEQUENCE:0
DTSTAMP:20260424T084603Z
DTSTART:20251028T070000Z
DTEND:20251028T084000Z
SUMMARY:Поведение потребителей
LOCATION:DL Дистанционно
END:VEVENT
BEGIN:VEVENT
UID:rj9d@192.168.245.71:3006
SEQUENCE:0
DTSTAMP:20260424T084603Z
DTSTART:20251028T110000Z
DTEND:20251028T124000Z
SUMMARY:Копирайтинг в рекламе и PR
LOCATION:16 к. 515
END:VEVENT
BEGIN:VEVENT
UID:3hav@192.168.245.71:3006
SEQUENCE:0
DTSTAMP:20260424T084603Z
DTSTART:20251028T130000Z
DTEND:20251028T144000Z
SUMMARY:Социология массовых коммуникаций
LOCATION:16 к. 200
END:VEVENT
BEGIN:VEVENT
UID:ua6x@192.168.245.71:3006
SEQUENCE:0
DTSTAMP:20260424T084603Z
DTSTART:20251029T110000Z
DTEND:20251029T124000Z
SUMMARY:Поведение потребителей
LOCATION:DL Дистанционно
END:VEVENT
BEGIN:VEVENT
UID:10of@192.168.245.71:3006
SEQUENCE:0
DTSTAMP:20260424T084603Z
DTSTART:20251029T130000Z
DTEND:20251029T144000Z
SUMMARY:Поведение потребителей
LOCATION:DL Дистанционно
END:VEVENT
BEGIN:VEVENT
UID:69h1@192.168.245.71:3006
SEQUENCE:0
DTSTAMP:20260424T084603Z
DTSTART:20251030T070000Z
DTEND:20251030T084000Z
SUMMARY:Медиапланирование
LOCATION:16 к. 211
END:VEVENT
BEGIN:VEVENT
UID:vmpm@192.168.245.71:3006
SEQUENCE:0
DTSTAMP:20260424T084603Z
DTSTART:20251030T090000Z
DTEND:20251030T104000Z
SUMMARY:Медиапланирование
LOCATION:16 к. 414
END:VEVENT
BEGIN:VEVENT
UID:a7in@192.168.245.71:3006
SEQUENCE:0
DTSTAMP:20260424T084603Z
DTSTART:20251031T070000Z
DTEND:20251031T084000Z
SUMMARY:Организация работы отделов рекламы и связей с общественностью
LOCATION:DL Дистанционно
END:VEVENT
BEGIN:VEVENT
UID:wo2t@192.168.245.71:3006
SEQUENCE:0
DTSTAMP:20260424T084603Z
DTSTART:20251031T130000Z
DTEND:20251031T144000Z
SUMMARY:Организация работы отделов рекламы и связей с общественностью
LOCATION:16 к. 200
END:VEVENT
END:VCALENDAR