BEGIN:VCALENDAR
VERSION:2.0
PRODID:-//spbstu.ru//ical//RU
NAME:Расписание группы 3834201/30401
X-WR-CALNAME:Расписание группы 3834201/30401
TIMEZONE-ID:Europe/Moscow
X-WR-TIMEZONE:Europe/Moscow
BEGIN:VEVENT
UID:rhzy@192.168.245.71:3006
SEQUENCE:0
DTSTAMP:20260423T164957Z
DTSTART:20251215T090000Z
DTEND:20251215T104000Z
SUMMARY:Социология массовых коммуникаций
LOCATION:16 к. 209
END:VEVENT
BEGIN:VEVENT
UID:pclw@192.168.245.71:3006
SEQUENCE:0
DTSTAMP:20260423T164957Z
DTSTART:20251215T110000Z
DTEND:20251215T124000Z
SUMMARY:Копирайтинг в рекламе и PR
LOCATION:16 к. 211
END:VEVENT
BEGIN:VEVENT
UID:djhc@192.168.245.71:3006
SEQUENCE:0
DTSTAMP:20260423T164957Z
DTSTART:20251216T110000Z
DTEND:20251216T124000Z
SUMMARY:Копирайтинг в рекламе и PR
LOCATION:16 к. 515
END:VEVENT
BEGIN:VEVENT
UID:7crx@192.168.245.71:3006
SEQUENCE:0
DTSTAMP:20260423T164957Z
DTSTART:20251216T130000Z
DTEND:20251216T144000Z
SUMMARY:Медиапланирование
LOCATION:16 к. 200
END:VEVENT
BEGIN:VEVENT
UID:9zk2@192.168.245.71:3006
SEQUENCE:0
DTSTAMP:20260423T164957Z
DTSTART:20251217T070000Z
DTEND:20251217T090000Z
SUMMARY:Организация работы отделов рекламы и связей с общественностью
LOCATION:DL Дистанционно
END:VEVENT
BEGIN:VEVENT
UID:mrel@192.168.245.71:3006
SEQUENCE:0
DTSTAMP:20260423T164957Z
DTSTART:20251219T100000Z
DTEND:20251219T122000Z
SUMMARY:Медиапланирование
LOCATION:16 к. 213
END:VEVENT
END:VCALENDAR