BEGIN:VCALENDAR
VERSION:2.0
PRODID:-//spbstu.ru//ical//RU
NAME:Расписание группы 3834201/30401
X-WR-CALNAME:Расписание группы 3834201/30401
TIMEZONE-ID:Europe/Moscow
X-WR-TIMEZONE:Europe/Moscow
BEGIN:VEVENT
UID:r7hs@192.168.245.71:3006
SEQUENCE:0
DTSTAMP:20260422T043153Z
DTSTART:20260317T070000Z
DTEND:20260317T084000Z
SUMMARY:Фирменный стиль
LOCATION:16 к. 210
END:VEVENT
BEGIN:VEVENT
UID:9ceb@192.168.245.71:3006
SEQUENCE:0
DTSTAMP:20260422T043153Z
DTSTART:20260317T090000Z
DTEND:20260317T104000Z
SUMMARY:Фирменный стиль
LOCATION:16 к. 200
END:VEVENT
BEGIN:VEVENT
UID:05sd@192.168.245.71:3006
SEQUENCE:0
DTSTAMP:20260422T043153Z
DTSTART:20260317T110000Z
DTEND:20260317T124000Z
SUMMARY:Креативность в коммуникационных проектах
LOCATION:16 к. 200
END:VEVENT
BEGIN:VEVENT
UID:hlo8@192.168.245.71:3006
SEQUENCE:0
DTSTAMP:20260422T043153Z
DTSTART:20260319T090000Z
DTEND:20260319T104000Z
SUMMARY:Креативность в коммуникационных проектах
LOCATION:16 к. 203
END:VEVENT
BEGIN:VEVENT
UID:cqpu@192.168.245.71:3006
SEQUENCE:0
DTSTAMP:20260422T043153Z
DTSTART:20260319T110000Z
DTEND:20260319T124000Z
SUMMARY:Стратегические коммуникации в международном сотрудничестве
LOCATION:16 к. 209
END:VEVENT
END:VCALENDAR