BEGIN:VCALENDAR
VERSION:2.0
PRODID:-//spbstu.ru//ical//RU
NAME:Расписание группы 3834201/30402
X-WR-CALNAME:Расписание группы 3834201/30402
TIMEZONE-ID:Europe/Moscow
X-WR-TIMEZONE:Europe/Moscow
BEGIN:VEVENT
UID:t67r@192.168.245.71:3006
SEQUENCE:0
DTSTAMP:20260426T033248Z
DTSTART:20251110T110000Z
DTEND:20251110T124000Z
SUMMARY:Социология массовых коммуникаций
LOCATION:16 к. 209
END:VEVENT
BEGIN:VEVENT
UID:rife@192.168.245.71:3006
SEQUENCE:0
DTSTAMP:20260426T033248Z
DTSTART:20251110T130000Z
DTEND:20251110T144000Z
SUMMARY:Копирайтинг в рекламе и PR
LOCATION:16 к. 211
END:VEVENT
BEGIN:VEVENT
UID:k6zl@192.168.245.71:3006
SEQUENCE:0
DTSTAMP:20260426T033248Z
DTSTART:20251111T070000Z
DTEND:20251111T084000Z
SUMMARY:Поведение потребителей
LOCATION:DL Дистанционно
END:VEVENT
BEGIN:VEVENT
UID:c2vm@192.168.245.71:3006
SEQUENCE:0
DTSTAMP:20260426T033248Z
DTSTART:20251111T110000Z
DTEND:20251111T124000Z
SUMMARY:Копирайтинг в рекламе и PR
LOCATION:16 к. 515
END:VEVENT
BEGIN:VEVENT
UID:hqtq@192.168.245.71:3006
SEQUENCE:0
DTSTAMP:20260426T033248Z
DTSTART:20251111T130000Z
DTEND:20251111T144000Z
SUMMARY:Социология массовых коммуникаций
LOCATION:16 к. 200
END:VEVENT
BEGIN:VEVENT
UID:7w7g@192.168.245.71:3006
SEQUENCE:0
DTSTAMP:20260426T033248Z
DTSTART:20251112T110000Z
DTEND:20251112T124000Z
SUMMARY:Поведение потребителей
LOCATION:16 к. кафедра
END:VEVENT
BEGIN:VEVENT
UID:452l@192.168.245.71:3006
SEQUENCE:0
DTSTAMP:20260426T033248Z
DTSTART:20251112T130000Z
DTEND:20251112T144000Z
SUMMARY:Поведение потребителей
LOCATION:DL Дистанционно
END:VEVENT
BEGIN:VEVENT
UID:u2m8@192.168.245.71:3006
SEQUENCE:0
DTSTAMP:20260426T033248Z
DTSTART:20251114T090000Z
DTEND:20251114T104000Z
SUMMARY:Организация работы отделов рекламы и связей с общественностью
LOCATION:DL Дистанционно
END:VEVENT
BEGIN:VEVENT
UID:8s28@192.168.245.71:3006
SEQUENCE:0
DTSTAMP:20260426T033248Z
DTSTART:20251114T130000Z
DTEND:20251114T144000Z
SUMMARY:Организация работы отделов рекламы и связей с общественностью
LOCATION:16 к. 200
END:VEVENT
END:VCALENDAR