BEGIN:VCALENDAR
VERSION:2.0
PRODID:-//spbstu.ru//ical//RU
NAME:Расписание группы 3834201/30402
X-WR-CALNAME:Расписание группы 3834201/30402
TIMEZONE-ID:Europe/Moscow
X-WR-TIMEZONE:Europe/Moscow
BEGIN:VEVENT
UID:op4p@192.168.245.71:3006
SEQUENCE:0
DTSTAMP:20260425T185350Z
DTSTART:20251201T110000Z
DTEND:20251201T124000Z
SUMMARY:Социология массовых коммуникаций
LOCATION:16 к. 209
END:VEVENT
BEGIN:VEVENT
UID:enfe@192.168.245.71:3006
SEQUENCE:0
DTSTAMP:20260425T185350Z
DTSTART:20251202T130000Z
DTEND:20251202T144000Z
SUMMARY:Медиапланирование
LOCATION:16 к. 200
END:VEVENT
BEGIN:VEVENT
UID:f8s4@192.168.245.71:3006
SEQUENCE:0
DTSTAMP:20260425T185350Z
DTSTART:20251203T080000Z
DTEND:20251203T094500Z
SUMMARY:Социология международных отношений
LOCATION:DL Дистанционно
END:VEVENT
BEGIN:VEVENT
UID:h43g@192.168.245.71:3006
SEQUENCE:0
DTSTAMP:20260425T185350Z
DTSTART:20251203T100000Z
DTEND:20251203T114500Z
SUMMARY:Социология международных отношений
LOCATION:DL Дистанционно
END:VEVENT
BEGIN:VEVENT
UID:lgw2@192.168.245.71:3006
SEQUENCE:0
DTSTAMP:20260425T185350Z
DTSTART:20251203T120000Z
DTEND:20251203T131500Z
SUMMARY:Социология международных отношений
LOCATION:DL Дистанционно
END:VEVENT
BEGIN:VEVENT
UID:el43@192.168.245.71:3006
SEQUENCE:0
DTSTAMP:20260425T185350Z
DTSTART:20251204T070000Z
DTEND:20251204T084000Z
SUMMARY:Медиапланирование
LOCATION:16 к. 400
END:VEVENT
BEGIN:VEVENT
UID:rxqq@192.168.245.71:3006
SEQUENCE:0
DTSTAMP:20260425T185350Z
DTSTART:20251204T090000Z
DTEND:20251204T104000Z
SUMMARY:Медиапланирование
LOCATION:16 к. 509
END:VEVENT
BEGIN:VEVENT
UID:jb91@192.168.245.71:3006
SEQUENCE:0
DTSTAMP:20260425T185350Z
DTSTART:20251205T090000Z
DTEND:20251205T104000Z
SUMMARY:Организация работы отделов рекламы и связей с общественностью
LOCATION:DL Дистанционно
END:VEVENT
END:VCALENDAR