BEGIN:VCALENDAR
VERSION:2.0
PRODID:-//spbstu.ru//ical//RU
NAME:Расписание группы 3834201/30402
X-WR-CALNAME:Расписание группы 3834201/30402
TIMEZONE-ID:Europe/Moscow
X-WR-TIMEZONE:Europe/Moscow
BEGIN:VEVENT
UID:wamp@192.168.245.71:3006
SEQUENCE:0
DTSTAMP:20260425T165047Z
DTSTART:20251208T110000Z
DTEND:20251208T124000Z
SUMMARY:Социология массовых коммуникаций
LOCATION:16 к. 209
END:VEVENT
BEGIN:VEVENT
UID:d0w2@192.168.245.71:3006
SEQUENCE:0
DTSTAMP:20260425T165047Z
DTSTART:20251208T130000Z
DTEND:20251208T144000Z
SUMMARY:Копирайтинг в рекламе и PR
LOCATION:16 к. 211
END:VEVENT
BEGIN:VEVENT
UID:5w4b@192.168.245.71:3006
SEQUENCE:0
DTSTAMP:20260425T165047Z
DTSTART:20251208T150000Z
DTEND:20251208T164000Z
SUMMARY:Копирайтинг в рекламе и PR
LOCATION:16 к. 211
END:VEVENT
BEGIN:VEVENT
UID:rk44@192.168.245.71:3006
SEQUENCE:0
DTSTAMP:20260425T165047Z
DTSTART:20251209T070000Z
DTEND:20251209T084000Z
SUMMARY:Поведение потребителей
LOCATION:DL Дистанционно
END:VEVENT
BEGIN:VEVENT
UID:cxwd@192.168.245.71:3006
SEQUENCE:0
DTSTAMP:20260425T165047Z
DTSTART:20251209T110000Z
DTEND:20251209T124000Z
SUMMARY:Копирайтинг в рекламе и PR
LOCATION:16 к. 515
END:VEVENT
BEGIN:VEVENT
UID:0vv4@192.168.245.71:3006
SEQUENCE:0
DTSTAMP:20260425T165047Z
DTSTART:20251209T130000Z
DTEND:20251209T144000Z
SUMMARY:Социология массовых коммуникаций
LOCATION:16 к. 200
END:VEVENT
BEGIN:VEVENT
UID:a9yl@192.168.245.71:3006
SEQUENCE:0
DTSTAMP:20260425T165047Z
DTSTART:20251210T110000Z
DTEND:20251210T124000Z
SUMMARY:Поведение потребителей
LOCATION:16 к. кафедра
END:VEVENT
BEGIN:VEVENT
UID:8rk9@192.168.245.71:3006
SEQUENCE:0
DTSTAMP:20260425T165047Z
DTSTART:20251210T130000Z
DTEND:20251210T144000Z
SUMMARY:Поведение потребителей
LOCATION:DL Дистанционно
END:VEVENT
BEGIN:VEVENT
UID:9s9p@192.168.245.71:3006
SEQUENCE:0
DTSTAMP:20260425T165047Z
DTSTART:20251212T090000Z
DTEND:20251212T104000Z
SUMMARY:Организация работы отделов рекламы и связей с общественностью
LOCATION:DL Дистанционно
END:VEVENT
BEGIN:VEVENT
UID:r9aq@192.168.245.71:3006
SEQUENCE:0
DTSTAMP:20260425T165047Z
DTSTART:20251212T130000Z
DTEND:20251212T144000Z
SUMMARY:Организация работы отделов рекламы и связей с общественностью
LOCATION:16 к. 200
END:VEVENT
END:VCALENDAR