BEGIN:VCALENDAR
VERSION:2.0
PRODID:-//spbstu.ru//ical//RU
NAME:Расписание группы 3834201/30402
X-WR-CALNAME:Расписание группы 3834201/30402
TIMEZONE-ID:Europe/Moscow
X-WR-TIMEZONE:Europe/Moscow
BEGIN:VEVENT
UID:m9dj@192.168.245.71:3006
SEQUENCE:0
DTSTAMP:20260422T114003Z
DTSTART:20260216T070000Z
DTEND:20260216T084000Z
SUMMARY:Профессиональная языковая коммуникация специалиста PR и рекламы
LOCATION:16 к. 214
END:VEVENT
BEGIN:VEVENT
UID:wfuq@192.168.245.71:3006
SEQUENCE:0
DTSTAMP:20260422T114003Z
DTSTART:20260216T090000Z
DTEND:20260216T104000Z
SUMMARY:Профессиональная языковая коммуникация специалиста PR и рекламы
LOCATION:16 к. 214
END:VEVENT
BEGIN:VEVENT
UID:451p@192.168.245.71:3006
SEQUENCE:0
DTSTAMP:20260422T114003Z
DTSTART:20260216T143000Z
DTEND:20260216T154500Z
SUMMARY:Проектная практика
LOCATION:16 к. 211
END:VEVENT
BEGIN:VEVENT
UID:qvmt@192.168.245.71:3006
SEQUENCE:0
DTSTAMP:20260422T114003Z
DTSTART:20260217T090000Z
DTEND:20260217T104000Z
SUMMARY:Фирменный стиль
LOCATION:16 к. 200
END:VEVENT
BEGIN:VEVENT
UID:5ty5@192.168.245.71:3006
SEQUENCE:0
DTSTAMP:20260422T114003Z
DTSTART:20260217T110000Z
DTEND:20260217T124000Z
SUMMARY:Креативность в коммуникационных проектах
LOCATION:16 к. 200
END:VEVENT
BEGIN:VEVENT
UID:7a20@192.168.245.71:3006
SEQUENCE:0
DTSTAMP:20260422T114003Z
DTSTART:20260217T130000Z
DTEND:20260217T134500Z
SUMMARY:Образовательный форсайт
LOCATION:16 к. 210
END:VEVENT
BEGIN:VEVENT
UID:qn34@192.168.245.71:3006
SEQUENCE:0
DTSTAMP:20260422T114003Z
DTSTART:20260218T070000Z
DTEND:20260218T084000Z
SUMMARY:Стратегические коммуникации в международном сотрудничестве
LOCATION:16 к. 515
END:VEVENT
BEGIN:VEVENT
UID:qfs6@192.168.245.71:3006
SEQUENCE:0
DTSTAMP:20260422T114003Z
DTSTART:20260218T090000Z
DTEND:20260218T104000Z
SUMMARY:Фирменный стиль
LOCATION:16 к. 210
END:VEVENT
BEGIN:VEVENT
UID:pwiw@192.168.245.71:3006
SEQUENCE:0
DTSTAMP:20260422T114003Z
DTSTART:20260218T110000Z
DTEND:20260218T130000Z
SUMMARY:Медиапланирование
LOCATION:16 к. 509
END:VEVENT
BEGIN:VEVENT
UID:560d@192.168.245.71:3006
SEQUENCE:0
DTSTAMP:20260422T114003Z
DTSTART:20260219T130000Z
DTEND:20260219T134500Z
SUMMARY:Социология международных отношений
LOCATION:16 к. 215
END:VEVENT
BEGIN:VEVENT
UID:tfus@192.168.245.71:3006
SEQUENCE:0
DTSTAMP:20260422T114003Z
DTSTART:20260220T150000Z
DTEND:20260220T154500Z
SUMMARY:Социология массовых коммуникаций
LOCATION:16 к. 521
END:VEVENT
END:VCALENDAR