BEGIN:VCALENDAR
VERSION:2.0
PRODID:-//spbstu.ru//ical//RU
NAME:Расписание группы 3834201/30402
X-WR-CALNAME:Расписание группы 3834201/30402
TIMEZONE-ID:Europe/Moscow
X-WR-TIMEZONE:Europe/Moscow
BEGIN:VEVENT
UID:mlth@192.168.245.71:3006
SEQUENCE:0
DTSTAMP:20260422T181038Z
DTSTART:20260202T070000Z
DTEND:20260202T084000Z
SUMMARY:Профессиональная языковая коммуникация специалиста PR и рекламы
LOCATION:16 к. 214
END:VEVENT
BEGIN:VEVENT
UID:keye@192.168.245.71:3006
SEQUENCE:0
DTSTAMP:20260422T181038Z
DTSTART:20260202T090000Z
DTEND:20260202T104000Z
SUMMARY:Профессиональная языковая коммуникация специалиста PR и рекламы
LOCATION:16 к. 214
END:VEVENT
BEGIN:VEVENT
UID:nvz5@192.168.245.71:3006
SEQUENCE:0
DTSTAMP:20260422T181038Z
DTSTART:20260203T090000Z
DTEND:20260203T104000Z
SUMMARY:Фирменный стиль
LOCATION:16 к. 200
END:VEVENT
BEGIN:VEVENT
UID:dct7@192.168.245.71:3006
SEQUENCE:0
DTSTAMP:20260422T181038Z
DTSTART:20260203T110000Z
DTEND:20260203T124000Z
SUMMARY:Креативность в коммуникационных проектах
LOCATION:16 к. 200
END:VEVENT
BEGIN:VEVENT
UID:898m@192.168.245.71:3006
SEQUENCE:0
DTSTAMP:20260422T181038Z
DTSTART:20260203T130000Z
DTEND:20260203T144000Z
SUMMARY:Образовательный форсайт
LOCATION:16 к. 200
END:VEVENT
BEGIN:VEVENT
UID:tqfu@192.168.245.71:3006
SEQUENCE:0
DTSTAMP:20260422T181038Z
DTSTART:20260204T070000Z
DTEND:20260204T084000Z
SUMMARY:Стратегические коммуникации в международном сотрудничестве
LOCATION:16 к. 515
END:VEVENT
BEGIN:VEVENT
UID:iq8v@192.168.245.71:3006
SEQUENCE:0
DTSTAMP:20260422T181038Z
DTSTART:20260204T090000Z
DTEND:20260204T104000Z
SUMMARY:Фирменный стиль
LOCATION:16 к. 210
END:VEVENT
END:VCALENDAR