BEGIN:VCALENDAR
VERSION:2.0
PRODID:-//spbstu.ru//ical//RU
NAME:Расписание группы 3834201/30402
X-WR-CALNAME:Расписание группы 3834201/30402
TIMEZONE-ID:Europe/Moscow
X-WR-TIMEZONE:Europe/Moscow
BEGIN:VEVENT
UID:h091@192.168.245.71:3006
SEQUENCE:0
DTSTAMP:20260421T192022Z
DTSTART:20260406T150000Z
DTEND:20260406T154500Z
SUMMARY:Проектная практика
LOCATION:16 к. 210
END:VEVENT
BEGIN:VEVENT
UID:k4kk@192.168.245.71:3006
SEQUENCE:0
DTSTAMP:20260421T192022Z
DTSTART:20260406T150000Z
DTEND:20260406T154500Z
SUMMARY:Медиапланирование
LOCATION:16 к. 210
END:VEVENT
BEGIN:VEVENT
UID:8k0s@192.168.245.71:3006
SEQUENCE:0
DTSTAMP:20260421T192022Z
DTSTART:20260407T090000Z
DTEND:20260407T104000Z
SUMMARY:Фирменный стиль
LOCATION:16 к. 200
END:VEVENT
BEGIN:VEVENT
UID:46mh@192.168.245.71:3006
SEQUENCE:0
DTSTAMP:20260421T192022Z
DTSTART:20260407T110000Z
DTEND:20260407T124000Z
SUMMARY:Стратегические коммуникации в международном сотрудничестве
LOCATION:16 к. 214
END:VEVENT
BEGIN:VEVENT
UID:l700@192.168.245.71:3006
SEQUENCE:0
DTSTAMP:20260421T192022Z
DTSTART:20260407T130000Z
DTEND:20260407T144000Z
SUMMARY:Креативность в коммуникационных проектах
LOCATION:16 к. 200
END:VEVENT
BEGIN:VEVENT
UID:w5h0@192.168.245.71:3006
SEQUENCE:0
DTSTAMP:20260421T192022Z
DTSTART:20260408T070000Z
DTEND:20260408T084000Z
SUMMARY:Стратегические коммуникации в международном сотрудничестве
LOCATION:16 к. 515
END:VEVENT
BEGIN:VEVENT
UID:q2ma@192.168.245.71:3006
SEQUENCE:0
DTSTAMP:20260421T192022Z
DTSTART:20260408T090000Z
DTEND:20260408T104000Z
SUMMARY:Фирменный стиль
LOCATION:16 к. 210
END:VEVENT
BEGIN:VEVENT
UID:2cxl@192.168.245.71:3006
SEQUENCE:0
DTSTAMP:20260421T192022Z
DTSTART:20260409T110000Z
DTEND:20260409T124000Z
SUMMARY:Креативность в коммуникационных проектах
LOCATION:16 к. 213
END:VEVENT
END:VCALENDAR