BEGIN:VCALENDAR
VERSION:2.0
PRODID:-//spbstu.ru//ical//RU
NAME:Расписание группы 3834201/30402
X-WR-CALNAME:Расписание группы 3834201/30402
TIMEZONE-ID:Europe/Moscow
X-WR-TIMEZONE:Europe/Moscow
BEGIN:VEVENT
UID:krvh@192.168.245.71:3006
SEQUENCE:0
DTSTAMP:20260421T225141Z
DTSTART:20260519T110000Z
DTEND:20260519T124000Z
SUMMARY:Стратегические коммуникации в международном сотрудничестве
LOCATION:16 к. 214
END:VEVENT
BEGIN:VEVENT
UID:m22s@192.168.245.71:3006
SEQUENCE:0
DTSTAMP:20260421T225141Z
DTSTART:20260521T110000Z
DTEND:20260521T124000Z
SUMMARY:Креативность в коммуникационных проектах
LOCATION:16 к. 213
END:VEVENT
END:VCALENDAR