BEGIN:VCALENDAR
VERSION:2.0
PRODID:-//spbstu.ru//ical//RU
NAME:Расписание группы 3834402/30102
X-WR-CALNAME:Расписание группы 3834402/30102
TIMEZONE-ID:Europe/Moscow
X-WR-TIMEZONE:Europe/Moscow
BEGIN:VEVENT
UID:a3is@192.168.245.71:3006
SEQUENCE:0
DTSTAMP:20260421T150333Z
DTSTART:20260428T070000Z
DTEND:20260428T084000Z
SUMMARY:Организационная психология
LOCATION:9 к. 325
END:VEVENT
BEGIN:VEVENT
UID:ebpe@192.168.245.71:3006
SEQUENCE:0
DTSTAMP:20260421T150333Z
DTSTART:20260429T070000Z
DTEND:20260429T084000Z
SUMMARY:Организационная психология
LOCATION:9 к. 323
END:VEVENT
BEGIN:VEVENT
UID:8vnc@192.168.245.71:3006
SEQUENCE:0
DTSTAMP:20260421T150333Z
DTSTART:20260429T090000Z
DTEND:20260429T104000Z
SUMMARY:Методы психолого-педагогического исследования
LOCATION:9 к. 325
END:VEVENT
BEGIN:VEVENT
UID:qo6j@192.168.245.71:3006
SEQUENCE:0
DTSTAMP:20260421T150333Z
DTSTART:20260429T110000Z
DTEND:20260429T124000Z
SUMMARY:Клиническая психология
LOCATION:9 к. 325
END:VEVENT
BEGIN:VEVENT
UID:2yeo@192.168.245.71:3006
SEQUENCE:0
DTSTAMP:20260421T150333Z
DTSTART:20260429T130000Z
DTEND:20260429T144000Z
SUMMARY:Клиническая психология
LOCATION:9 к. 325
END:VEVENT
END:VCALENDAR