BEGIN:VCALENDAR
VERSION:2.0
PRODID:-//spbstu.ru//ical//RU
NAME:Расписание группы 3834402/30102
X-WR-CALNAME:Расписание группы 3834402/30102
TIMEZONE-ID:Europe/Moscow
X-WR-TIMEZONE:Europe/Moscow
BEGIN:VEVENT
UID:i4v7@192.168.245.71:3006
SEQUENCE:0
DTSTAMP:20260421T120815Z
DTSTART:20260407T090000Z
DTEND:20260407T104000Z
SUMMARY:Методы психолого-педагогического исследования
LOCATION:9 к. 309
END:VEVENT
BEGIN:VEVENT
UID:aegh@192.168.245.71:3006
SEQUENCE:0
DTSTAMP:20260421T120815Z
DTSTART:20260407T110000Z
DTEND:20260407T124000Z
SUMMARY:Психолого-педагогический практикум в информационной образовательно
 й среде
LOCATION:9 к. 315
END:VEVENT
BEGIN:VEVENT
UID:o4gq@192.168.245.71:3006
SEQUENCE:0
DTSTAMP:20260421T120815Z
DTSTART:20260408T090000Z
DTEND:20260408T104000Z
SUMMARY:Организационная психология
LOCATION:9 к. 309
END:VEVENT
BEGIN:VEVENT
UID:wpvv@192.168.245.71:3006
SEQUENCE:0
DTSTAMP:20260421T120815Z
DTSTART:20260408T130000Z
DTEND:20260408T140000Z
SUMMARY:Образовательный форсайт
LOCATION:9 к. 221
END:VEVENT
END:VCALENDAR