BEGIN:VCALENDAR
VERSION:2.0
PRODID:-//spbstu.ru//ical//RU
NAME:Расписание группы 3834504/30101
X-WR-CALNAME:Расписание группы 3834504/30101
TIMEZONE-ID:Europe/Moscow
X-WR-TIMEZONE:Europe/Moscow
BEGIN:VEVENT
UID:ky9p@192.168.245.71:3006
SEQUENCE:0
DTSTAMP:20260421T174840Z
DTSTART:20260518T070000Z
DTEND:20260518T084000Z
SUMMARY:Теоретическая грамматика (английский язык)
LOCATION:9 к. 323
END:VEVENT
BEGIN:VEVENT
UID:q9rv@192.168.245.71:3006
SEQUENCE:0
DTSTAMP:20260421T174840Z
DTSTART:20260518T090000Z
DTEND:20260518T104000Z
SUMMARY:Математическая лингвистика
LOCATION:9 к. 212
END:VEVENT
BEGIN:VEVENT
UID:wv9n@192.168.245.71:3006
SEQUENCE:0
DTSTAMP:20260421T174840Z
DTSTART:20260518T110000Z
DTEND:20260518T124000Z
SUMMARY:Практикум по культуре речевого общения второго иностранного языка 
 (немецкий язык)
LOCATION:9 к. 330
END:VEVENT
BEGIN:VEVENT
UID:mmrn@192.168.245.71:3006
SEQUENCE:0
DTSTAMP:20260421T174840Z
DTSTART:20260518T110000Z
DTEND:20260518T124000Z
SUMMARY:Практикум по культуре речевого общения второго иностранного языка 
 (испанский язык)
LOCATION:9 к. 208
END:VEVENT
BEGIN:VEVENT
UID:2qn6@192.168.245.71:3006
SEQUENCE:0
DTSTAMP:20260421T174840Z
DTSTART:20260518T110000Z
DTEND:20260518T124000Z
SUMMARY:Практикум по культуре речевого общения второго иностранного языка 
 (китайский язык)
LOCATION:9 к. 129
END:VEVENT
BEGIN:VEVENT
UID:y5hm@192.168.245.71:3006
SEQUENCE:0
DTSTAMP:20260421T174840Z
DTSTART:20260519T070000Z
DTEND:20260519T084000Z
SUMMARY:Практикум по культуре речевого общения второго иностранного языка 
 (испанский язык)
LOCATION:9 к. 217
END:VEVENT
BEGIN:VEVENT
UID:22vh@192.168.245.71:3006
SEQUENCE:0
DTSTAMP:20260421T174840Z
DTSTART:20260519T070000Z
DTEND:20260519T084000Z
SUMMARY:Практикум по культуре речевого общения второго иностранного языка 
 (немецкий язык)
LOCATION:9 к. 241
END:VEVENT
BEGIN:VEVENT
UID:w3jn@192.168.245.71:3006
SEQUENCE:0
DTSTAMP:20260421T174840Z
DTSTART:20260519T090000Z
DTEND:20260519T104000Z
SUMMARY:Практикум по культуре речевого общения второго иностранного языка 
 (испанский язык)
LOCATION:9 к. 217
END:VEVENT
BEGIN:VEVENT
UID:j38j@192.168.245.71:3006
SEQUENCE:0
DTSTAMP:20260421T174840Z
DTSTART:20260520T110000Z
DTEND:20260520T124000Z
SUMMARY:Практикум по культуре речевого общения второго иностранного языка 
 (китайский язык)
LOCATION:9 к. 129
END:VEVENT
BEGIN:VEVENT
UID:xnxl@192.168.245.71:3006
SEQUENCE:0
DTSTAMP:20260421T174840Z
DTSTART:20260520T130000Z
DTEND:20260520T144000Z
SUMMARY:Практикум профессионального иноязычного дискурса
LOCATION:9 к. 313
END:VEVENT
BEGIN:VEVENT
UID:l74l@192.168.245.71:3006
SEQUENCE:0
DTSTAMP:20260421T174840Z
DTSTART:20260522T070000Z
DTEND:20260522T084000Z
SUMMARY:Машинное обучение и анализ данных
LOCATION:9 к. 432
END:VEVENT
BEGIN:VEVENT
UID:slig@192.168.245.71:3006
SEQUENCE:0
DTSTAMP:20260421T174840Z
DTSTART:20260522T090000Z
DTEND:20260522T104000Z
SUMMARY:Системы искусственного интеллекта
LOCATION:9 к. 432
END:VEVENT
END:VCALENDAR