BEGIN:VCALENDAR
VERSION:2.0
PRODID:-//spbstu.ru//ical//RU
NAME:Расписание группы 3834504/30101
X-WR-CALNAME:Расписание группы 3834504/30101
TIMEZONE-ID:Europe/Moscow
X-WR-TIMEZONE:Europe/Moscow
BEGIN:VEVENT
UID:ey2w@192.168.245.71:3006
SEQUENCE:0
DTSTAMP:20260421T110347Z
DTSTART:20260504T070000Z
DTEND:20260504T084000Z
SUMMARY:Теоретическая грамматика (английский язык)
LOCATION:9 к. 323
END:VEVENT
BEGIN:VEVENT
UID:kgqt@192.168.245.71:3006
SEQUENCE:0
DTSTAMP:20260421T110347Z
DTSTART:20260504T090000Z
DTEND:20260504T104000Z
SUMMARY:Математическая лингвистика
LOCATION:9 к. 212
END:VEVENT
BEGIN:VEVENT
UID:p545@192.168.245.71:3006
SEQUENCE:0
DTSTAMP:20260421T110347Z
DTSTART:20260504T110000Z
DTEND:20260504T124000Z
SUMMARY:Практикум по культуре речевого общения второго иностранного языка 
 (немецкий язык)
LOCATION:9 к. 330
END:VEVENT
BEGIN:VEVENT
UID:nb14@192.168.245.71:3006
SEQUENCE:0
DTSTAMP:20260421T110347Z
DTSTART:20260504T110000Z
DTEND:20260504T124000Z
SUMMARY:Практикум по культуре речевого общения второго иностранного языка 
 (китайский язык)
LOCATION:9 к. 129
END:VEVENT
BEGIN:VEVENT
UID:4sjx@192.168.245.71:3006
SEQUENCE:0
DTSTAMP:20260421T110347Z
DTSTART:20260505T070000Z
DTEND:20260505T084000Z
SUMMARY:Практикум по культуре речевого общения второго иностранного языка 
 (испанский язык)
LOCATION:9 к. 217
END:VEVENT
BEGIN:VEVENT
UID:x2jf@192.168.245.71:3006
SEQUENCE:0
DTSTAMP:20260421T110347Z
DTSTART:20260505T070000Z
DTEND:20260505T084000Z
SUMMARY:Практикум по культуре речевого общения второго иностранного языка 
 (немецкий язык)
LOCATION:9 к. 241
END:VEVENT
BEGIN:VEVENT
UID:2i2s@192.168.245.71:3006
SEQUENCE:0
DTSTAMP:20260421T110347Z
DTSTART:20260505T090000Z
DTEND:20260505T104000Z
SUMMARY:Практикум по культуре речевого общения второго иностранного языка 
 (испанский язык)
LOCATION:9 к. 217
END:VEVENT
BEGIN:VEVENT
UID:ar8b@192.168.245.71:3006
SEQUENCE:0
DTSTAMP:20260421T110347Z
DTSTART:20260506T110000Z
DTEND:20260506T124000Z
SUMMARY:Практикум по культуре речевого общения второго иностранного языка 
 (китайский язык)
LOCATION:9 к. 129
END:VEVENT
BEGIN:VEVENT
UID:o3ch@192.168.245.71:3006
SEQUENCE:0
DTSTAMP:20260421T110347Z
DTSTART:20260506T130000Z
DTEND:20260506T144000Z
SUMMARY:Практикум профессионального иноязычного дискурса
LOCATION:9 к. 313
END:VEVENT
BEGIN:VEVENT
UID:0o6f@192.168.245.71:3006
SEQUENCE:0
DTSTAMP:20260421T110347Z
DTSTART:20260507T090000Z
DTEND:20260507T104000Z
SUMMARY:Системы искусственного интеллекта
LOCATION:3 к. 401
END:VEVENT
BEGIN:VEVENT
UID:wqin@192.168.245.71:3006
SEQUENCE:0
DTSTAMP:20260421T110347Z
DTSTART:20260507T110000Z
DTEND:20260507T124000Z
SUMMARY:Практикум профессионального иноязычного дискурса
LOCATION:9 к. 313
END:VEVENT
BEGIN:VEVENT
UID:igfo@192.168.245.71:3006
SEQUENCE:0
DTSTAMP:20260421T110347Z
DTSTART:20260508T070000Z
DTEND:20260508T084000Z
SUMMARY:Машинное обучение и анализ данных
LOCATION:9 к. 216
END:VEVENT
BEGIN:VEVENT
UID:gf7b@192.168.245.71:3006
SEQUENCE:0
DTSTAMP:20260421T110347Z
DTSTART:20260508T090000Z
DTEND:20260508T104000Z
SUMMARY:Системы искусственного интеллекта
LOCATION:9 к. 216
END:VEVENT
END:VCALENDAR