BEGIN:VCALENDAR
VERSION:2.0
PRODID:-//spbstu.ru//ical//RU
NAME:Расписание группы 3834504/30101
X-WR-CALNAME:Расписание группы 3834504/30101
TIMEZONE-ID:Europe/Moscow
X-WR-TIMEZONE:Europe/Moscow
BEGIN:VEVENT
UID:4efo@192.168.245.71:3006
SEQUENCE:0
DTSTAMP:20260421T225121Z
DTSTART:20260601T070000Z
DTEND:20260601T100000Z
SUMMARY:Математическая лингвистика
LOCATION:9 к. 221
END:VEVENT
BEGIN:VEVENT
UID:os5l@192.168.245.71:3006
SEQUENCE:0
DTSTAMP:20260421T225121Z
DTSTART:20260603T070000Z
DTEND:20260603T084000Z
SUMMARY:Практикум профессионального иноязычного дискурса
LOCATION:9 к. 221
END:VEVENT
BEGIN:VEVENT
UID:w5sz@192.168.245.71:3006
SEQUENCE:0
DTSTAMP:20260421T225121Z
DTSTART:20260604T070000Z
DTEND:20260604T093000Z
SUMMARY:Практикум профессионального иноязычного дискурса
LOCATION:9 к. 221
END:VEVENT
BEGIN:VEVENT
UID:hpo7@192.168.245.71:3006
SEQUENCE:0
DTSTAMP:20260421T225121Z
DTSTART:20260605T070000Z
DTEND:20260605T084000Z
SUMMARY:Практикум по культуре речевого общения второго иностранного языка 
 (китайский язык)
LOCATION:9 к. 129
END:VEVENT
END:VCALENDAR