BEGIN:VCALENDAR
VERSION:2.0
PRODID:-//spbstu.ru//ical//RU
NAME:Расписание группы 3834504/30102
X-WR-CALNAME:Расписание группы 3834504/30102
TIMEZONE-ID:Europe/Moscow
X-WR-TIMEZONE:Europe/Moscow
BEGIN:VEVENT
UID:75g1@192.168.245.71:3006
SEQUENCE:0
DTSTAMP:20260425T225749Z
DTSTART:20251201T070000Z
DTEND:20251201T084000Z
SUMMARY:Компьютерная лингвистика
LOCATION:6 к. 11
END:VEVENT
BEGIN:VEVENT
UID:r3up@192.168.245.71:3006
SEQUENCE:0
DTSTAMP:20260425T225749Z
DTSTART:20251201T090000Z
DTEND:20251201T104000Z
SUMMARY:Иностранный язык. Профессионально-ориентированный курс
LOCATION:6 к. 18
END:VEVENT
BEGIN:VEVENT
UID:was3@192.168.245.71:3006
SEQUENCE:0
DTSTAMP:20260425T225749Z
DTSTART:20251201T110000Z
DTEND:20251201T124000Z
SUMMARY:Практикум по культуре речевого общения второго иностранного языка 
 (китайский язык)
LOCATION:9 к. 129
END:VEVENT
BEGIN:VEVENT
UID:rund@192.168.245.71:3006
SEQUENCE:0
DTSTAMP:20260425T225749Z
DTSTART:20251201T110000Z
DTEND:20251201T124000Z
SUMMARY:Практикум по культуре речевого общения второго иностранного языка 
 (немецкий язык)
LOCATION:9 к. 208
END:VEVENT
BEGIN:VEVENT
UID:wc7c@192.168.245.71:3006
SEQUENCE:0
DTSTAMP:20260425T225749Z
DTSTART:20251201T130000Z
DTEND:20251201T144000Z
SUMMARY:Лексикология (английский язык)
LOCATION:ГЗ 329
END:VEVENT
BEGIN:VEVENT
UID:urqb@192.168.245.71:3006
SEQUENCE:0
DTSTAMP:20260425T225749Z
DTSTART:20251202T070000Z
DTEND:20251202T084000Z
SUMMARY:Практикум по культуре речевого общения второго иностранного языка 
 (испанский язык)
LOCATION:9 к. 319
END:VEVENT
BEGIN:VEVENT
UID:kgup@192.168.245.71:3006
SEQUENCE:0
DTSTAMP:20260425T225749Z
DTSTART:20251202T090000Z
DTEND:20251202T104000Z
SUMMARY:Иностранный язык. Профессионально-ориентированный курс
LOCATION:9 к. 515
END:VEVENT
BEGIN:VEVENT
UID:hs35@192.168.245.71:3006
SEQUENCE:0
DTSTAMP:20260425T225749Z
DTSTART:20251203T110000Z
DTEND:20251203T124000Z
SUMMARY:Практикум по культуре речевого общения второго иностранного языка 
 (китайский язык)
LOCATION:9 к. 129
END:VEVENT
BEGIN:VEVENT
UID:ulti@192.168.245.71:3006
SEQUENCE:0
DTSTAMP:20260425T225749Z
DTSTART:20251203T110000Z
DTEND:20251203T124000Z
SUMMARY:Практикум по культуре речевого общения второго иностранного языка 
 (немецкий язык)
LOCATION:9 к. 133
END:VEVENT
BEGIN:VEVENT
UID:35cy@192.168.245.71:3006
SEQUENCE:0
DTSTAMP:20260425T225749Z
DTSTART:20251203T130000Z
DTEND:20251203T144000Z
SUMMARY:Практикум по культуре речевого общения второго иностранного языка 
 (испанский язык)
LOCATION:9 к. 313
END:VEVENT
BEGIN:VEVENT
UID:ge5r@192.168.245.71:3006
SEQUENCE:0
DTSTAMP:20260425T225749Z
DTSTART:20251205T090000Z
DTEND:20251205T104000Z
SUMMARY:Машинное обучение и анализ данных
LOCATION:3 к. 303
END:VEVENT
END:VCALENDAR