BEGIN:VCALENDAR
VERSION:2.0
PRODID:-//spbstu.ru//ical//RU
NAME:Расписание группы 3834504/30102
X-WR-CALNAME:Расписание группы 3834504/30102
TIMEZONE-ID:Europe/Moscow
X-WR-TIMEZONE:Europe/Moscow
BEGIN:VEVENT
UID:i8p9@192.168.245.71:3006
SEQUENCE:0
DTSTAMP:20260425T020353Z
DTSTART:20260112T110000Z
DTEND:20260112T140000Z
SUMMARY:Компьютерная лингвистика
LOCATION:9 к. 210
END:VEVENT
BEGIN:VEVENT
UID:d6g9@192.168.245.71:3006
SEQUENCE:0
DTSTAMP:20260425T020353Z
DTSTART:20260114T093000Z
DTEND:20260114T110000Z
SUMMARY:Лексикология (английский язык)
LOCATION:9 к. 216
END:VEVENT
BEGIN:VEVENT
UID:oldk@192.168.245.71:3006
SEQUENCE:0
DTSTAMP:20260425T020353Z
DTSTART:20260115T070000Z
DTEND:20260115T084000Z
SUMMARY:Лексикология (английский язык)
LOCATION:9 к. 217
END:VEVENT
BEGIN:VEVENT
UID:bowk@192.168.245.71:3006
SEQUENCE:0
DTSTAMP:20260425T020353Z
DTSTART:20260116T110000Z
DTEND:20260116T124000Z
SUMMARY:Образовательный форсайт
LOCATION:9 к. 216
END:VEVENT
END:VCALENDAR